BEGIN:VCALENDAR
VERSION:2.0
PRODID:-//Meeting Planner - ECPv6.15.15//NONSGML v1.0//EN
CALSCALE:GREGORIAN
METHOD:PUBLISH
X-ORIGINAL-URL:https://meeting-planner.it
X-WR-CALDESC:Eventi per Meeting Planner
REFRESH-INTERVAL;VALUE=DURATION:PT1H
X-Robots-Tag:noindex
X-PUBLISHED-TTL:PT1H
BEGIN:VTIMEZONE
TZID:Europe/Helsinki
BEGIN:DAYLIGHT
TZOFFSETFROM:+0200
TZOFFSETTO:+0300
TZNAME:EEST
DTSTART:20250330T010000
END:DAYLIGHT
BEGIN:STANDARD
TZOFFSETFROM:+0300
TZOFFSETTO:+0200
TZNAME:EET
DTSTART:20251026T010000
END:STANDARD
BEGIN:DAYLIGHT
TZOFFSETFROM:+0200
TZOFFSETTO:+0300
TZNAME:EEST
DTSTART:20260329T010000
END:DAYLIGHT
BEGIN:STANDARD
TZOFFSETFROM:+0300
TZOFFSETTO:+0200
TZNAME:EET
DTSTART:20261025T010000
END:STANDARD
BEGIN:DAYLIGHT
TZOFFSETFROM:+0200
TZOFFSETTO:+0300
TZNAME:EEST
DTSTART:20270328T010000
END:DAYLIGHT
BEGIN:STANDARD
TZOFFSETFROM:+0300
TZOFFSETTO:+0200
TZNAME:EET
DTSTART:20271031T010000
END:STANDARD
END:VTIMEZONE
BEGIN:VEVENT
DTSTART;TZID=Europe/Helsinki:20260313T090000
DTEND;TZID=Europe/Helsinki:20260314T170000
DTSTAMP:20260425T050217
CREATED:20251027T110042Z
LAST-MODIFIED:20260223T065929Z
UID:12476-1773392400-1773507600@meeting-planner.it
SUMMARY:PEDIATRIA IN RETE
DESCRIPTION:L’EVENTO HA OTTENUTO N. 12 CREDITI FORMATIVI ED E’ RIVOLTO A MEDICI CHIRURGHI (AREA INTERDISCIPLINARE) E A FARMACISTI (TERRITORIALI E OSPEDALIERI)\nCLICCARE QUI PER IL PROGRAMMA\nCLICCARE QUI PER ISCRIZIONE ONLINE
URL:https://meeting-planner.it/evento/pediatria-in-rete/
LOCATION:THE NICOLAUS HOTEL\, Via Cardinale Agostino Ciasca\, 27\, BARI\, 70124\, Italia
ATTACH;FMTTYPE=image/jpeg:https://meeting-planner.it/wp-content/uploads/2025/10/SAVE-THE-DATE-GIORDANO-scaled.jpg
ORGANIZER;CN="Claudia Colagrande":MAILTO:claudia@meeting-planner.it
END:VEVENT
BEGIN:VEVENT
DTSTART;TZID=Europe/Helsinki:20260314T081500
DTEND;TZID=Europe/Helsinki:20260314T134500
DTSTAMP:20260425T050217
CREATED:20260302T193556Z
LAST-MODIFIED:20260303T084730Z
UID:12981-1773476100-1773495900@meeting-planner.it
SUMMARY:CONGRESSO SCIENTIFICO IL DISTURBO DEL SONNO NEI BAMBINI
DESCRIPTION:Per il programma clicca qui\nPer l’iscrizione clicca qui \nIl Provider ha assegnato all’evento n. 3\,5 crediti formativi (ID evento 478192). \nL’evento è rivolto n. 200 partecipanti\nFigure professionali: Medici Chirurghi specialisti in Gastroenterologia\, Genetica medica\, Malattie dell’apparato respiratorio\, Medicina generale (medici di famiglia)\, Neurologia\, Neuropsichiatria infantile\, Pediatria\, Pediatria(pediatri di libera scelta)\, Psichiatria\, Tecnici di Neurofisiopatologia
URL:https://meeting-planner.it/evento/congresso-scientifico-il-disturbo-del-sonno-nei-bambini/
LOCATION:CASA DELL’AVIATORE\, Viale dell’Università\, 20\, Roma\, Seleziona uno Stato:\, 00185\, Italy
ATTACH;FMTTYPE=image/png:https://meeting-planner.it/wp-content/uploads/2026/03/immagine-new-ridimensionata.png
ORGANIZER;CN="Fernando De Benedictis":MAILTO:segreteria.ecm@meeting-planner.it
END:VEVENT
END:VCALENDAR