BEGIN:VCALENDAR
VERSION:2.0
PRODID:-//Meeting Planner - ECPv6.15.15//NONSGML v1.0//EN
CALSCALE:GREGORIAN
METHOD:PUBLISH
X-ORIGINAL-URL:https://meeting-planner.it
X-WR-CALDESC:Eventi per Meeting Planner
REFRESH-INTERVAL;VALUE=DURATION:PT1H
X-Robots-Tag:noindex
X-PUBLISHED-TTL:PT1H
BEGIN:VTIMEZONE
TZID:Europe/Helsinki
BEGIN:DAYLIGHT
TZOFFSETFROM:+0200
TZOFFSETTO:+0300
TZNAME:EEST
DTSTART:20250330T010000
END:DAYLIGHT
BEGIN:STANDARD
TZOFFSETFROM:+0300
TZOFFSETTO:+0200
TZNAME:EET
DTSTART:20251026T010000
END:STANDARD
BEGIN:DAYLIGHT
TZOFFSETFROM:+0200
TZOFFSETTO:+0300
TZNAME:EEST
DTSTART:20260329T010000
END:DAYLIGHT
BEGIN:STANDARD
TZOFFSETFROM:+0300
TZOFFSETTO:+0200
TZNAME:EET
DTSTART:20261025T010000
END:STANDARD
BEGIN:DAYLIGHT
TZOFFSETFROM:+0200
TZOFFSETTO:+0300
TZNAME:EEST
DTSTART:20270328T010000
END:DAYLIGHT
BEGIN:STANDARD
TZOFFSETFROM:+0300
TZOFFSETTO:+0200
TZNAME:EET
DTSTART:20271031T010000
END:STANDARD
END:VTIMEZONE
BEGIN:VEVENT
DTSTART;TZID=Europe/Helsinki:20260331T074500
DTEND;TZID=Europe/Helsinki:20260403T183000
DTSTAMP:20260420T125930
CREATED:20251020T082705Z
LAST-MODIFIED:20260128T143451Z
UID:12441-1774943100-1775241000@meeting-planner.it
SUMMARY:8° Corso base di Microchirurgia
DESCRIPTION:Presidenti: Michele Maruccia\, Giuseppe Giudice\nResponsabile Scientifico: Rossella Elia \nPer il programma clicca qui\nIscrizioni chiuse per raggiungimento del numero massimo dei posti disponibili.\nISCRIZIONE\nCorso a numero chiuso per 12 persone.\nQUOTA DI ISCRIZIONE (IVA 22% esclusa)\n€ 880\,00 + IVA per Soci SIM\, SICPRE\, SICM e SPIGC\n€ 980\,00 + IVA per Non soci
URL:https://meeting-planner.it/evento/8-corso-base-di-microchirurgia/
LOCATION:Aula Magna Campus di Medicina Veterinaria – Università degli Studi di Bari Aldo Moro\, Str. prov. per Casamassima\, km 3\, Valenzano\, 70010\, Italy
ATTACH;FMTTYPE=image/jpeg:https://meeting-planner.it/wp-content/uploads/2025/10/SLIDE-TAPPO.jpg
ORGANIZER;CN="Anna Spilotros":MAILTO:anna@meeting-planner.it
END:VEVENT
END:VCALENDAR