BEGIN:VCALENDAR
VERSION:2.0
PRODID:-//Meeting Planner - ECPv6.15.15//NONSGML v1.0//EN
CALSCALE:GREGORIAN
METHOD:PUBLISH
X-ORIGINAL-URL:https://meeting-planner.it
X-WR-CALDESC:Eventi per Meeting Planner
REFRESH-INTERVAL;VALUE=DURATION:PT1H
X-Robots-Tag:noindex
X-PUBLISHED-TTL:PT1H
BEGIN:VTIMEZONE
TZID:Europe/Helsinki
BEGIN:DAYLIGHT
TZOFFSETFROM:+0200
TZOFFSETTO:+0300
TZNAME:EEST
DTSTART:20250330T010000
END:DAYLIGHT
BEGIN:STANDARD
TZOFFSETFROM:+0300
TZOFFSETTO:+0200
TZNAME:EET
DTSTART:20251026T010000
END:STANDARD
BEGIN:DAYLIGHT
TZOFFSETFROM:+0200
TZOFFSETTO:+0300
TZNAME:EEST
DTSTART:20260329T010000
END:DAYLIGHT
BEGIN:STANDARD
TZOFFSETFROM:+0300
TZOFFSETTO:+0200
TZNAME:EET
DTSTART:20261025T010000
END:STANDARD
BEGIN:DAYLIGHT
TZOFFSETFROM:+0200
TZOFFSETTO:+0300
TZNAME:EEST
DTSTART:20270328T010000
END:DAYLIGHT
BEGIN:STANDARD
TZOFFSETFROM:+0300
TZOFFSETTO:+0200
TZNAME:EET
DTSTART:20271031T010000
END:STANDARD
END:VTIMEZONE
BEGIN:VEVENT
DTSTART;TZID=Europe/Helsinki:20260507T083000
DTEND;TZID=Europe/Helsinki:20260509T130000
DTSTAMP:20260420T095851
CREATED:20260130T150145Z
LAST-MODIFIED:20260419T095414Z
UID:12825-1778142600-1778331600@meeting-planner.it
SUMMARY:CPAP 2026 - COLLOQUI IN PEDIATRIA\, ALLERGOLOGIA E PENUMOLOGIA
DESCRIPTION:CORSI PRE – CONGRESSUALI  \nQuota di iscrizione € 100 + iva 22% \nCONGRESSO \nQuota di iscrizione € 150 + iva 22% \nPer le specializzazioni accreditate\, consultare il programma ↓ \nPartecipazione gratuita per Infermieri\, Infermieri Pediatrici (solo per la Sessione Infermieristica)\, Studenti e Specializzandi (solo per il Congresso) \nSCARICA IL PROGRAMMA AGGIORNATO \nISCRIVITI ONLINE
URL:https://meeting-planner.it/evento/cpap-colloqui-di-penumologia-e-allergologia-in-pediatria-2/
LOCATION:Hotel Porto Giardino\, Contrada Lamandia\, 16/A\, Monopoli
ATTACH;FMTTYPE=image/jpeg:https://meeting-planner.it/wp-content/uploads/2026/01/CPAP-2026-per-sito-MP.jpg
ORGANIZER;CN="Lucia Milone":MAILTO:lucia@meeting-planner.it
END:VEVENT
END:VCALENDAR