BEGIN:VCALENDAR
VERSION:2.0
PRODID:-//Meeting Planner - ECPv6.15.15//NONSGML v1.0//EN
CALSCALE:GREGORIAN
METHOD:PUBLISH
X-WR-CALNAME:Meeting Planner
X-ORIGINAL-URL:https://meeting-planner.it
X-WR-CALDESC:Eventi per Meeting Planner
REFRESH-INTERVAL;VALUE=DURATION:PT1H
X-Robots-Tag:noindex
X-PUBLISHED-TTL:PT1H
BEGIN:VTIMEZONE
TZID:Europe/Helsinki
BEGIN:DAYLIGHT
TZOFFSETFROM:+0200
TZOFFSETTO:+0300
TZNAME:EEST
DTSTART:20200329T010000
END:DAYLIGHT
BEGIN:STANDARD
TZOFFSETFROM:+0300
TZOFFSETTO:+0200
TZNAME:EET
DTSTART:20201025T010000
END:STANDARD
BEGIN:DAYLIGHT
TZOFFSETFROM:+0200
TZOFFSETTO:+0300
TZNAME:EEST
DTSTART:20210328T010000
END:DAYLIGHT
BEGIN:STANDARD
TZOFFSETFROM:+0300
TZOFFSETTO:+0200
TZNAME:EET
DTSTART:20211031T010000
END:STANDARD
BEGIN:DAYLIGHT
TZOFFSETFROM:+0200
TZOFFSETTO:+0300
TZNAME:EEST
DTSTART:20220327T010000
END:DAYLIGHT
BEGIN:STANDARD
TZOFFSETFROM:+0300
TZOFFSETTO:+0200
TZNAME:EET
DTSTART:20221030T010000
END:STANDARD
BEGIN:DAYLIGHT
TZOFFSETFROM:+0200
TZOFFSETTO:+0300
TZNAME:EEST
DTSTART:20230326T010000
END:DAYLIGHT
BEGIN:STANDARD
TZOFFSETFROM:+0300
TZOFFSETTO:+0200
TZNAME:EET
DTSTART:20231029T010000
END:STANDARD
END:VTIMEZONE
BEGIN:VEVENT
DTSTART;TZID=Europe/Helsinki:20220318T143000
DTEND;TZID=Europe/Helsinki:20220318T173000
DTSTAMP:20260422T050346
CREATED:20220125T101047Z
LAST-MODIFIED:20220125T101133Z
UID:6833-1647613800-1647624600@meeting-planner.it
SUMMARY:Ormone della crescita: Nota 39 e oltre. Esperienze a confronto (FAD SINCRONA)
DESCRIPTION:PROGRAMMA FAD\nISCRIZIONE CORSO FAD\nECM (codice evento 339000)\nIl Provider ha assegnato all’evento n. 4\,5 crediti formativi.\nIl corso si svolgerà in modalità webinar (FAD sincrona). \nNumero di partecipanti: 500\nFigure professionali: Medici Chirurghi specialisti in Pediatria\, Pediatria di libera scelta\, Neonatologia\, Medicina generale (medici di famiglia)\, Endocrinologia\, Malattie Metaboliche e Diabetologia\, Genetica Medica\, Laboratorio di Genetica Medica\, Neuroradiologia\, Farmacisti Ospedalieri\, Farmacisti Territoriali\, Infermieri\, Infermieri Pediatrici.
URL:https://meeting-planner.it/evento/ormone-della-crescita-nota-39-e-oltre-fad-sincrona/
ATTACH;FMTTYPE=image/png:https://meeting-planner.it/wp-content/uploads/2022/01/CICCONE_02-1.png
ORGANIZER;CN="Angela Pavan":MAILTO:angela@meeting-planner.it
END:VEVENT
BEGIN:VEVENT
DTSTART;TZID=Europe/Helsinki:20220318T083000
DTEND;TZID=Europe/Helsinki:20220318T163000
DTSTAMP:20260422T050346
CREATED:20220120T105008Z
LAST-MODIFIED:20220120T105157Z
UID:6789-1647592200-1647621000@meeting-planner.it
SUMMARY:Gestione multimodale del carcinoma della prostata. Focus group ed esperienze a confronto (EVENTO RESIDENZIALE)
DESCRIPTION:DETTAGLI DISPONIBILI A BREVE
URL:https://meeting-planner.it/evento/gestione-multimodale-del-carcinoma-della-prostata-focus-group-ed-esperienze-a-confronto-evento-residenziale/
LOCATION:Hotel Best Western Universo Roma\, Via Principe Amedeo 5/B\, Roma\, RM\, 00185\, Italia
ATTACH;FMTTYPE=image/jpeg:https://meeting-planner.it/wp-content/uploads/2021/09/COMING_SOON_esec3-002.jpg
ORGANIZER;CN="Claudia Colagrande":MAILTO:claudia@meeting-planner.it
END:VEVENT
BEGIN:VEVENT
DTSTART;TZID=Europe/Helsinki:20220316T000000
DTEND;TZID=Europe/Helsinki:20220316T000000
DTSTAMP:20260422T050346
CREATED:20220228T173027Z
LAST-MODIFIED:20220407T092930Z
UID:7010-1647388800-1647388800@meeting-planner.it
SUMMARY:XXVI DENTALEVANTE XVIII - Memorial Giuseppe Sfregola (FAD ASINCRONA)
DESCRIPTION:ECM (codice evento 347792)\nIl Provider ha assegnato all’evento n. 9 crediti formativi.\nIl corso si svolgerà in modalità Asincrona. \nNumero di partecipanti: 500\nL’evento è riservato a 500 Odontoiatri soci ANDI \nPROGRAMMA FAD\nISCRIZIONE CORSO FAD ASINCRONA
URL:https://meeting-planner.it/evento/xxvi-dentalevante-xviii-memorial-giuseppe-sfregola-fad-asincrona/
LOCATION:FAD ASINCRONA
ATTACH;FMTTYPE=image/jpeg:https://meeting-planner.it/wp-content/uploads/2022/02/398-2940_Dentalevante_FAD_0103-101122_W-01-V02.jpg
ORGANIZER;CN="Lucia Milone":MAILTO:lucia@meeting-planner.it
END:VEVENT
BEGIN:VEVENT
DTSTART;TZID=Europe/Helsinki:20220312T080000
DTEND;TZID=Europe/Helsinki:20220312T140000
DTSTAMP:20260422T050346
CREATED:20220303T100217Z
LAST-MODIFIED:20220314T122522Z
UID:7087-1647072000-1647093600@meeting-planner.it
SUMMARY:Sicurezza dei Medici e degli Operatori Sanitari in tempo di Pandemia: Prevenzione\, Vaccini\, Violenza (EVENTO RESIDENZIALE)
DESCRIPTION:CLICCA QUI PER COMPILARE I QUESTIONARI ECM ONLINE\nLa compilazione dei questionari ECM online è possibile sino al giorno 15/03/2021 ore 13.40 \nE’ possibile 1 solo tentativo
URL:https://meeting-planner.it/evento/sicurezza-dei-medici-e-degli-operatori-sanitari-in-tempo-di-pandemia-prevenzione-vaccini-violenza-evento-residenziale/
LOCATION:Hotel Excelsior Bari\, Via Giulio Petroni\, 15\, Bari\, 70124
ATTACH;FMTTYPE=image/jpeg:https://meeting-planner.it/wp-content/uploads/2022/03/slide-di-copertina-omceo-12-marzo-2022-scaled.jpg
ORGANIZER;CN="Angela Pavan":MAILTO:angela@meeting-planner.it
END:VEVENT
BEGIN:VEVENT
DTSTART;TZID=Europe/Helsinki:20220304T090000
DTEND;TZID=Europe/Helsinki:20220304T173000
DTSTAMP:20260422T050346
CREATED:20210806T083050Z
LAST-MODIFIED:20220127T122740Z
UID:6000-1646384400-1646415000@meeting-planner.it
SUMMARY:CORSO DI CHIRURGIA ORALE ED IMPLANTOLOGIA. CHIRURGIA DAL VIVO - quinto incontro
DESCRIPTION:Il Provider ha assegnato n.50 crediti ECM \nPROGRAMMA
URL:https://meeting-planner.it/evento/corso-di-chirurgia-orale-ed-implantologia-chirurgia-dal-vivo-quinto-incontro/
ATTACH;FMTTYPE=image/jpeg:https://meeting-planner.it/wp-content/uploads/2021/08/CHIRURGIA-ORALE_001_1920_1080_6.jpg
ORGANIZER;CN="Lucia Milone":MAILTO:lucia@meeting-planner.it
END:VEVENT
BEGIN:VEVENT
DTSTART;TZID=Europe/Helsinki:20220226T090000
DTEND;TZID=Europe/Helsinki:20220226T190000
DTSTAMP:20260422T050346
CREATED:20210806T082830Z
LAST-MODIFIED:20220127T122555Z
UID:5998-1645866000-1645902000@meeting-planner.it
SUMMARY:CORSO DI CHIRURGIA ORALE ED IMPLANTOLOGIA. CHIRURGIA DAL VIVO - quarto incontro
DESCRIPTION:Il Provider ha assegnato n.50 crediti ECM \nPROGRAMMA \n  \n 
URL:https://meeting-planner.it/evento/corso-di-chirurgia-orale-ed-implantologia-chirurgia-dal-vivo-quarto-incontro-2/
LOCATION:Studi Dentistici Maffei Dal 1912\, Via Giuseppe Bozzi\, 59\, Bari\, Italia
ATTACH;FMTTYPE=image/jpeg:https://meeting-planner.it/wp-content/uploads/2021/08/CHIRURGIA-ORALE_001_1920_1080_6.jpg
ORGANIZER;CN="Lucia Milone":MAILTO:lucia@meeting-planner.it
END:VEVENT
BEGIN:VEVENT
DTSTART;TZID=Europe/Helsinki:20220225T090000
DTEND;TZID=Europe/Helsinki:20220225T190000
DTSTAMP:20260422T050346
CREATED:20210806T082739Z
LAST-MODIFIED:20220127T122522Z
UID:5996-1645779600-1645815600@meeting-planner.it
SUMMARY:CORSO DI CHIRURGIA ORALE ED IMPLANTOLOGIA. CHIRURGIA DAL VIVO - terzo incontro
DESCRIPTION:Il Provider ha assegnato n.50 crediti ECM \nPROGRAMMA
URL:https://meeting-planner.it/evento/corso-di-chirurgia-orale-ed-implantologia-chirurgia-dal-vivo-terzo-incontro/
LOCATION:Studi Dentistici Maffei Dal 1912\, Via Giuseppe Bozzi\, 59\, Bari\, Italia
ATTACH;FMTTYPE=image/jpeg:https://meeting-planner.it/wp-content/uploads/2021/08/CHIRURGIA-ORALE_001_1920_1080_6.jpg
ORGANIZER;CN="Lucia Milone":MAILTO:lucia@meeting-planner.it
END:VEVENT
BEGIN:VEVENT
DTSTART;TZID=Europe/Helsinki:20220222T150000
DTEND;TZID=Europe/Helsinki:20220222T180000
DTSTAMP:20260422T050346
CREATED:20220120T093621Z
LAST-MODIFIED:20220211T104004Z
UID:6735-1645542000-1645552800@meeting-planner.it
SUMMARY:Aterosclerosi multidistrettuale - Il trattamento antitrombotico appropriato alla luce delle evidenze (FAD SINCRONA)
DESCRIPTION:Il Provider ha assegnato n. 4\,5 crediti ECM. \nL’evento è  rivolto a Medici Chirurghi. Specializzazioni mediche accreditate: Cardiologia\, Chirurgia Vascolare\, Angiologia\, Medicina Interna\, Endocrinologia\, Malattie Metaboliche e Diabetologia\, Neurologia e Medicina Generale (Medico di Famiglia). \nPROGRAMMA \nISCRIVITI
URL:https://meeting-planner.it/evento/aterosclerosi-multidistrettuale-fad-sincrona/
LOCATION:FAD ASINCRONA
ATTACH;FMTTYPE=image/jpeg:https://meeting-planner.it/wp-content/uploads/2022/01/398-2924_Caldarola_FAD_220222_W-01.jpg
ORGANIZER;CN="Stella Menolascina":MAILTO:stella@meeting-planner.it
END:VEVENT
BEGIN:VEVENT
DTSTART;TZID=Europe/Helsinki:20220219T090000
DTEND;TZID=Europe/Helsinki:20220219T190000
DTSTAMP:20260422T050346
CREATED:20210506T085529Z
LAST-MODIFIED:20220127T122426Z
UID:5635-1645261200-1645297200@meeting-planner.it
SUMMARY:CORSO DI CHIRURGIA ORALE ED IMPLANTOLOGIA. CHIRURGIA DAL VIVO - secondo incontro
DESCRIPTION:Il Provider ha assegnato n.50 crediti ECM \nPROGRAMMA
URL:https://meeting-planner.it/evento/corso-di-chirurgia-orale-ed-implantologia-chirurgia-dal-vivo-quarto-incontro/
LOCATION:Studi Dentistici Maffei Dal 1912\, Via Giuseppe Bozzi\, 59\, Bari\, Italia
ATTACH;FMTTYPE=image/jpeg:https://meeting-planner.it/wp-content/uploads/2021/08/CHIRURGIA-ORALE_001_1920_1080_6.jpg
ORGANIZER;CN="Lucia Milone":MAILTO:lucia@meeting-planner.it
END:VEVENT
BEGIN:VEVENT
DTSTART;TZID=Europe/Helsinki:20220218T083000
DTEND;TZID=Europe/Helsinki:20220218T190000
DTSTAMP:20260422T050346
CREATED:20210504T133029Z
LAST-MODIFIED:20220127T122337Z
UID:3839-1645173000-1645210800@meeting-planner.it
SUMMARY:CORSO DI CHIRURGIA ORALE ED IMPLANTOLOGIA. CHIRURGIA DAL VIVO - primo incontro
DESCRIPTION:Il Provider ha assegnato n.50 crediti ECM \nPROGRAMMA \nISCRIVITI
URL:https://meeting-planner.it/evento/corso-di-chirurgia-orale-ed-implantologia-chirurgia-dal-vivo-primo-incontro/
LOCATION:Studi Dentistici Maffei Dal 1912\, Via Giuseppe Bozzi\, 59\, Bari\, Italia
ATTACH;FMTTYPE=image/jpeg:https://meeting-planner.it/wp-content/uploads/2021/08/CHIRURGIA-ORALE_001_1920_1080_6.jpg
ORGANIZER;CN="Lucia Milone":MAILTO:lucia@meeting-planner.it
END:VEVENT
BEGIN:VEVENT
DTSTART;TZID=Europe/Helsinki:20220212T090000
DTEND;TZID=Europe/Helsinki:20220212T160000
DTSTAMP:20260422T050346
CREATED:20220112T185154Z
LAST-MODIFIED:20220210T153729Z
UID:6706-1644656400-1644681600@meeting-planner.it
SUMMARY:SANT'APOLLONIA 2022 - Le patologie odontoiatriche correlate alle malattie sistemiche per il benessere del paziente
DESCRIPTION:Il Provider ha assegnato 5 crediti formativi all’evento.\nL’attività formativa è destinata a 100 Odontoiatri.\n\nSCARICA IL PROGRAMMA DEL CONVEGNO\nISCRIVITI AL CONVEGNO\n\nPer i NON Soci ANDI che intendono iscriversi all’Associazione\, rivolgersi direttamente alla segreteria ANDI BARIBAT al n. 080 5347857\, tutti i giorni dalle 9 alle 12 oppure via mail all’indirizzo baribat@andi.it
URL:https://meeting-planner.it/evento/le-patologie-odontoiatriche-correlate-alle-malattie-sistemiche-per-il-benessere-del-paziente/
LOCATION:THE NICOLAUS HOTEL\, Via Cardinale Agostino Ciasca\, 27\, BARI\, 70124\, Italia
ATTACH;FMTTYPE=image/jpeg:https://meeting-planner.it/wp-content/uploads/2022/01/copertina-per-sito-MP.jpg
ORGANIZER;CN="Lucia Milone":MAILTO:lucia@meeting-planner.it
END:VEVENT
BEGIN:VEVENT
DTSTART;VALUE=DATE:20220122
DTEND;VALUE=DATE:20220123
DTSTAMP:20260422T050346
CREATED:20211216T122425Z
LAST-MODIFIED:20211221T103113Z
UID:6672-1642809600-1642895999@meeting-planner.it
SUMMARY:Incontro tra Pneumologo e MMG: novità in tema di ASMA e BPCO
DESCRIPTION:CLICCA QUI PER L’ISCRIZIONE ONLINE\nPROGRAMMA\n  \nECM (evento residenziale)\nEvento n. 338001 – Numero crediti formativi: 6\nDestinatari dell’attività formativa: n. 50 partecipanti\nFigure professionali: Medici specialisti in Allergologia ed immunologia clinica\, Malattie dell’apparato respiratorio\, Medicina generale (medici di famiglia)\, Medicina interna\, Otorinolaringoiatria\, Geriatria.
URL:https://meeting-planner.it/evento/incontro-tra-pneumologo-e-mmg-novita-in-tema-di-asma-e-bpco/
LOCATION:VITTORIA PARC HOTEL\, Via Nazionale 10/F\, BARI-PALESE\, 70128\, Italia
ATTACH;FMTTYPE=image/png:https://meeting-planner.it/wp-content/uploads/2021/12/immagine-per-sito-MP.png
ORGANIZER;CN="Angela Pavan":MAILTO:angela@meeting-planner.it
END:VEVENT
BEGIN:VEVENT
DTSTART;TZID=Europe/Helsinki:20220121T123000
DTEND;TZID=Europe/Helsinki:20220122T130000
DTSTAMP:20260422T050346
CREATED:20220120T113323Z
LAST-MODIFIED:20220120T113323Z
UID:6816-1642768200-1642856400@meeting-planner.it
SUMMARY:Consensus sul pacchetto formativo “Attività educativa EduForIST”
DESCRIPTION:PROGRAMMA
URL:https://meeting-planner.it/evento/consensus-sul-pacchetto-formativo-attivita-educativa-eduforist/
LOCATION:Bettoja Mediterraneo Hotel\, Via Cavour\, 15\, Roma\, 00187\, Italia
ATTACH;FMTTYPE=image/jpeg:https://meeting-planner.it/wp-content/uploads/2022/01/COPERTINA-PER-MP.jpg
ORGANIZER;CN="Lucia Milone":MAILTO:lucia@meeting-planner.it
END:VEVENT
BEGIN:VEVENT
DTSTART;TZID=Europe/Helsinki:20211221T150000
DTEND;TZID=Europe/Helsinki:20211221T180000
DTSTAMP:20260422T050346
CREATED:20210902T112619Z
LAST-MODIFIED:20210902T112619Z
UID:6144-1640098800-1640109600@meeting-planner.it
SUMMARY:Gli incontri di Neurologia del Miulli (4° data)
DESCRIPTION:CLICCA QUI PER L’ISCRIZIONE\nPROGRAMMA\nDATE DEGLI INCONTRI: \n\n21 settembre\n19 ottobre\n9 novembre\n21 dicembre\n\nECM \nIl Provider ha assegnato n.10 crediti formativi \nFigure professionali accreditate: medici chirurghi specialisti in neurologia\, neurofisiopatologia\, neurochirurgia\, geriatria\, medici di medicina generale.
URL:https://meeting-planner.it/evento/gli-incontri-di-neurologia-del-miulli-4-data/
LOCATION:Ospedale Generale Regionale “F. Miulli”\, Strada Provinciale 127 - Km.4\,100\, Acquaviva delle Fonti\, Italia
ATTACH;FMTTYPE=image/png:https://meeting-planner.it/wp-content/uploads/2021/08/IMMAGINE-PER-SITO-MP-AGGIORNATA.png
ORGANIZER;CN="Angela Pavan":MAILTO:angela@meeting-planner.it
END:VEVENT
BEGIN:VEVENT
DTSTART;TZID=Europe/Helsinki:20211217T153000
DTEND;TZID=Europe/Helsinki:20211218T121500
DTSTAMP:20260422T050346
CREATED:20211125T162337Z
LAST-MODIFIED:20211125T162337Z
UID:6333-1639755000-1639829700@meeting-planner.it
SUMMARY:Le Patologie endocrine nella cronicità
DESCRIPTION:Il Provider ha assegnato n.6 crediti ECM\nPROGRAMMA\nISCRIZIONI
URL:https://meeting-planner.it/evento/le-patologie-endocrine-nella-cronicita/
LOCATION:Regiohotel Manfredi\, S.P.58 Km12\, Manfredonia\, Italia
ATTACH;FMTTYPE=image/jpeg:https://meeting-planner.it/wp-content/uploads/2021/10/copertina-17_18_12.jpg
ORGANIZER;CN="Claudia Colagrande":MAILTO:claudia@meeting-planner.it
END:VEVENT
BEGIN:VEVENT
DTSTART;TZID=Europe/Helsinki:20211215T140000
DTEND;TZID=Europe/Helsinki:20211215T180000
DTSTAMP:20260422T050346
CREATED:20211203T111453Z
LAST-MODIFIED:20211203T111453Z
UID:6654-1639576800-1639591200@meeting-planner.it
SUMMARY:Infiammazione di tipo 2 nel contesto dell’asma grave e delle altre patologie correlate - II° incontro
DESCRIPTION:Evento ECM \nIl Provider ha assegnato all’evento n. 10\,4 crediti.\nL’evento è rivolto a Medici specialisti in Allergologia e Immunologia Clinica\, Malattie dell’Apparato Respiratorio\, Medicina Interna e Biologi. \nCLICCA QUI PER SCARICARE IL PROGRAMMA  \n 
URL:https://meeting-planner.it/evento/infiammazione-di-tipo-2-nel-contesto-dellasma-grave-e-delle-altre-patologie-correlate-ii-incontro/
LOCATION:Laboratorio di Allergologia Padiglione Morgagni\, Piazza Giulio Cesare\,1\, Bari\, Italia
ATTACH;FMTTYPE=image/jpeg:https://meeting-planner.it/wp-content/uploads/2021/12/LogoSanofiMacchia.jpg
ORGANIZER;CN="Lucia Milone":MAILTO:lucia@meeting-planner.it
END:VEVENT
BEGIN:VEVENT
DTSTART;TZID=Europe/Helsinki:20211210T153000
DTEND;TZID=Europe/Helsinki:20211211T133000
DTSTAMP:20260422T050346
CREATED:20211123T113626Z
LAST-MODIFIED:20211123T113626Z
UID:6331-1639150200-1639229400@meeting-planner.it
SUMMARY:NEW TRENDS IN ART
DESCRIPTION:Il Provider ha assegnato all’evento n.9\,1 crediti formativi ECM. \nL’evento è riservato alle seguenti figure professionali: Medici specialisti in Ginecologia e ostetricia\, Medicina Generale\,  Patologia clinica\, Endocrinologia\, Urologia\, Biologi\, Ostetriche. \nPROGRAMMA \nISCRIZIONI
URL:https://meeting-planner.it/evento/new-trends-in-art/
LOCATION:THE NICOLAUS HOTEL\, Via Cardinale Agostino Ciasca\, 27\, BARI\, 70124\, Italia
ATTACH;FMTTYPE=image/jpeg:https://meeting-planner.it/wp-content/uploads/2021/10/CARONE-IMMAGINE-SITO-MP.jpg
ORGANIZER;CN="Lucia Milone":MAILTO:lucia@meeting-planner.it
END:VEVENT
BEGIN:VEVENT
DTSTART;VALUE=DATE:20211209
DTEND;VALUE=DATE:20211211
DTSTAMP:20260422T050346
CREATED:20211115T124000Z
LAST-MODIFIED:20211203T092257Z
UID:6563-1639008000-1639180799@meeting-planner.it
SUMMARY:Sharing Experience - Condividiamo le esperienze in Aritmologia (edizione 2021)
DESCRIPTION:CLICCA QUI PER L’ISCRIZIONE\nPROGRAMMA SHARING EXPERIENCE 2021\nIl Provider ha assegnato n.16 crediti formativi (Evento n. 335495) \nDestinatari dell’attività formativa: n. 100 partecipanti \nFigure professionali: Medici Chirurghi (area interdisciplinare)\, Odontoiatri\, Infermieri\, Biologi\, Tecnici della Fisiopatologia Cardiocircolatoria e Perfusione Cardiovascolare\, Tecnici Sanitari di Laboratorio Biomedico\, Tecnici Sanitari di Radiologia Medica\, Tecnici di Neurofisiopatologia\, Fisica Sanitaria.
URL:https://meeting-planner.it/evento/sharing-experience-condividiamo-le-esperienze-in-aritmologia-edizione-2021/
LOCATION:Hotel Palace\, bari\, Italia
ATTACH;FMTTYPE=image/jpeg:https://meeting-planner.it/wp-content/uploads/2021/11/save-the-date.jpg
ORGANIZER;CN="Angela Pavan":MAILTO:angela@meeting-planner.it
END:VEVENT
BEGIN:VEVENT
DTSTART;TZID=Europe/Helsinki:20211206T133000
DTEND;TZID=Europe/Helsinki:20211206T190000
DTSTAMP:20260422T050346
CREATED:20211203T111103Z
LAST-MODIFIED:20211203T111103Z
UID:6643-1638797400-1638817200@meeting-planner.it
SUMMARY:Infiammazione di tipo 2 nel contesto dell’asma grave e delle altre patologie correlate - I° incontro
DESCRIPTION:Evento ECM \nIl Provider ha assegnato all’evento n. 10\,4 crediti.\nL’evento è rivolto a Medici specialisti in Allergologia e Immunologia Clinica\, Malattie dell’Apparato Respiratorio\, Medicina Interna e Biologi. \nCLICCA QUI PER SCARICARE IL PROGRAMMA  \nCLICCA QUI PER ISCRIVERTI ON-LINE (Iscrizioni chiuse) \n 
URL:https://meeting-planner.it/evento/infiammazione-di-tipo-2-nel-contesto-dellasma-grave-e-delle-altre-patologie-correlate-i-incontro/
LOCATION:Laboratorio di Allergologia Padiglione Morgagni\, Piazza Giulio Cesare\,1\, Bari\, Italia
ATTACH;FMTTYPE=image/jpeg:https://meeting-planner.it/wp-content/uploads/2021/12/LogoSanofiMacchia.jpg
ORGANIZER;CN="Lucia Milone":MAILTO:lucia@meeting-planner.it
END:VEVENT
BEGIN:VEVENT
DTSTART;TZID=Europe/Helsinki:20211204T100000
DTEND;TZID=Europe/Helsinki:20211204T100000
DTSTAMP:20260422T050346
CREATED:20211012T100324Z
LAST-MODIFIED:20211119T122749Z
UID:6312-1638612000-1638612000@meeting-planner.it
SUMMARY:Progetto di ricerca EMERSIONE - secondo incontro
DESCRIPTION:Il Provider ha assegnato n. 3 crediti ECM \nPROGRAMMA \nISCRIVITI
URL:https://meeting-planner.it/evento/progetto-di-ricerca-emersione-secondo-incontro/
LOCATION:Biblioteca Gaetano Ricchetti\, Via Sparano da Bari\, 145\, Bari
ATTACH;FMTTYPE=image/jpeg:https://meeting-planner.it/wp-content/uploads/2021/10/COPERTINA-SITO-MP_GSK-Macchia_new.jpg
ORGANIZER;CN="Lucia Milone":MAILTO:lucia@meeting-planner.it
END:VEVENT
BEGIN:VEVENT
DTSTART;TZID=Europe/Helsinki:20211204T081500
DTEND;TZID=Europe/Helsinki:20211204T150000
DTSTAMP:20260422T050346
CREATED:20211119T113908Z
LAST-MODIFIED:20211119T164413Z
UID:6325-1638605700-1638630000@meeting-planner.it
SUMMARY:ARGOMENTI DI ENDOCRINOLOGIA PEDIATRICA (PDTA)
DESCRIPTION:Il Provider ha assegnato n. 6 crediti ECM. \nL’evento è rivolto a medici chirurghi specialisti in pediatria\, pediatri di libera scelta\, endocrinologia. \nPROGRAMMA \nISCRIZIONI
URL:https://meeting-planner.it/evento/argomenti-di-endocrinologia-pediatrica-pdta/
LOCATION:Gallipoli Aula Magna Ospedale “Sacro Cuore di Gesù”\, Strada Provinciale Per Sannicola - Alezio Road\, 13\, Gallipoli (LE)\, Italia
ATTACH;FMTTYPE=image/jpeg:https://meeting-planner.it/wp-content/uploads/2021/11/SERONO_CORCIULO_MP.jpg
ORGANIZER;CN="Lucia Milone":MAILTO:lucia@meeting-planner.it
END:VEVENT
BEGIN:VEVENT
DTSTART;TZID=Europe/Helsinki:20211203T153000
DTEND;TZID=Europe/Helsinki:20211203T193000
DTSTAMP:20260422T050346
CREATED:20211019T150057Z
LAST-MODIFIED:20211019T150057Z
UID:6454-1638545400-1638559800@meeting-planner.it
SUMMARY:Il paziente pediatrico con sclerosi multipla (FAD SINCRONA)
DESCRIPTION:Il Provider ha assegnato all’evento n. 4\,5 crediti formativi.\nIl corso è rivolto 30 a Medici Chirurghi (specialisti in Neurologia\, Neuropsichiatria infantile\, Pediatria e Radiodiagnostica) e Psicologi. \nPROGRAMMA\nISCRIZIONE ONLINE
URL:https://meeting-planner.it/evento/il-paziente-pediatrico-con-sclerosi-multipla-fad-sincrona/
LOCATION:FAD ASINCRONA
ATTACH;FMTTYPE=image/jpeg:https://meeting-planner.it/wp-content/uploads/2021/10/immagine-3-dicembre-1920x1080-1.jpg
ORGANIZER;CN="Terry Dellino":MAILTO:terry@meeting-planner.it
END:VEVENT
BEGIN:VEVENT
DTSTART;TZID=Europe/Helsinki:20211203T150000
DTEND;TZID=Europe/Helsinki:20211204T113000
DTSTAMP:20260422T050346
CREATED:20210901T112037Z
LAST-MODIFIED:20211202T091512Z
UID:6094-1638543600-1638617400@meeting-planner.it
SUMMARY:LA SENOLOGIA DEL TERZO MILLENNIO - I EDIZIONE
DESCRIPTION:ECM (ID evento n. 331493)\nIl Provider ha assegnato all’evento n. 7\,5 crediti.\nL’evento è rivolto ai Medici chirurghi.\nSpecializzazioni mediche accreditate: Radiodiagnostica\, Medicina Nucleare\, Anatomia Patologica e Chirurgia Generale. \nCLICCA QUI PER SCARICARE IL PROGRAMMA  \nCLICCA QUI PER ISCRIVERTI ON-LINE \n 
URL:https://meeting-planner.it/evento/la-senologia-del-terzo-millennio-i-edizione/
ATTACH;FMTTYPE=image/jpeg:https://meeting-planner.it/wp-content/uploads/2021/11/IMMAGINE-PER-SITO.jpg
ORGANIZER;CN="Stella Menolascina":MAILTO:stella@meeting-planner.it
END:VEVENT
BEGIN:VEVENT
DTSTART;TZID=Europe/Helsinki:20211127T100000
DTEND;TZID=Europe/Helsinki:20211127T100000
DTSTAMP:20260422T050346
CREATED:20211012T100209Z
LAST-MODIFIED:20211119T122640Z
UID:6308-1638007200-1638007200@meeting-planner.it
SUMMARY:Progetto di ricerca EMERSIONE - primo incontro
DESCRIPTION:Il Provider ha assegnato n. 3 crediti ECM \nPROGRAMMA \nISCRIVITI
URL:https://meeting-planner.it/evento/progetto-di-ricerca-emersione-primo-incontro/
LOCATION:Biblioteca Gaetano Ricchetti\, Via Sparano da Bari\, 145\, Bari
ATTACH;FMTTYPE=image/jpeg:https://meeting-planner.it/wp-content/uploads/2021/10/COPERTINA-SITO-MP_GSK-Macchia_new.jpg
ORGANIZER;CN="Lucia Milone":MAILTO:lucia@meeting-planner.it
END:VEVENT
BEGIN:VEVENT
DTSTART;TZID=Europe/Helsinki:20211127T083000
DTEND;TZID=Europe/Helsinki:20211127T133000
DTSTAMP:20260422T050346
CREATED:20210901T134814Z
LAST-MODIFIED:20211022T135656Z
UID:6110-1638001800-1638019800@meeting-planner.it
SUMMARY:LA MEDICINA DEL TERRITORIO NELLA PREVENZIONE DELLE MALATTIE ENDOCRINO-METABOLICHE DELL’ ETA’ EVOLUTIVA
DESCRIPTION:Il Provider ha assegnato n. 4 crediti ECM. \nL’evento formativo è rivolto a L’evento formativo è rivolto a Medici specialisti in Endocrinologia\,\nPediatria\, Pediatria (Pediatri di libera scelta)\, Ginecologia e ostetricia\, Medicina generale (medici di famiglia)\, Scienza dell’alimentazione e dietetica e a Biologi\, Psicologi\, Psicoterapisti\, Dietisti\, Infermieri\, Infermieri pediatrici. \nSCARICA IL PROGRAMMA\nISCRIVITI ON LINE
URL:https://meeting-planner.it/evento/la-medicina-del-territorio-nella-prevenzione-delle-malattie-endocrino-metaboliche-dell-eta-evolutiva/
LOCATION:Albergo La Primula\, Via delle Primule 84\, Potenza\, 85100\, Italia
ATTACH;FMTTYPE=image/jpeg:https://meeting-planner.it/wp-content/uploads/2021/09/LA-MEDICINA-DEL-TERRITORIO.jpg
ORGANIZER;CN="Claudia Colagrande":MAILTO:claudia@meeting-planner.it
END:VEVENT
BEGIN:VEVENT
DTSTART;TZID=Europe/Helsinki:20211125T140000
DTEND;TZID=Europe/Helsinki:20211125T193000
DTSTAMP:20260422T050346
CREATED:20211122T115404Z
LAST-MODIFIED:20211124T093601Z
UID:6596-1637848800-1637868600@meeting-planner.it
SUMMARY:La voce delle donne
DESCRIPTION:Iscrizione gratuita ma obbligatoria \nPROGRAMMA \nISCRIVITI
URL:https://meeting-planner.it/evento/la-voce-delle-donne/
LOCATION:Villa Romanazzi Carducci\, Via Giuseppe Capruzzi 326\, Bari\, Italia
ATTACH;FMTTYPE=image/jpeg:https://meeting-planner.it/wp-content/uploads/2021/11/Agapanto.jpg
ORGANIZER;CN="Claudia Colagrande":MAILTO:claudia@meeting-planner.it
END:VEVENT
BEGIN:VEVENT
DTSTART;VALUE=DATE:20211125
DTEND;VALUE=DATE:20211128
DTSTAMP:20260422T050346
CREATED:20210901T112033Z
LAST-MODIFIED:20211104T134530Z
UID:6095-1637798400-1638057599@meeting-planner.it
SUMMARY:Congresso ANMCO SIC Puglia\, Basilicata 2021
DESCRIPTION:CLICCA QUI PER L’ISCRIZIONE\nPROGRAMMA\n  \nECM (Provider ANMCO – Associazione Nazionale Medici Cardiologi Ospedalieri) \nCodice evento 333421. Crediti assegnati n. 12\,2 \n200 Partecipanti totali: Medici\, Farmacisti ed Infermieri \nDiscipline mediche accreditate: Cardiologia; Endocrinologia; Geriatria; Malattie dell’Apparato Respiratorio; Medicina e Chirurgia di Accettazione e di Urgenza; Medicina Interna; Reumatologia; Cardiochirurgia; Anestesia e Rianimazione; Medicina Legale; Medici di Medicina Generale (Medici di Famiglia).
URL:https://meeting-planner.it/evento/congresso-anmco-sic-puglia-basilicata-2021/
LOCATION:Hotel Excelsior Bari\, Via Giulio Petroni\, 15\, Bari\, 70124
ATTACH;FMTTYPE=image/jpeg:https://meeting-planner.it/wp-content/uploads/2021/09/ANMCO_BANNER_1920X1080-scaled.jpg
ORGANIZER;CN="Angela Pavan":MAILTO:angela@meeting-planner.it
END:VEVENT
BEGIN:VEVENT
DTSTART;TZID=Europe/Helsinki:20211120T093000
DTEND;TZID=Europe/Helsinki:20211120T123000
DTSTAMP:20260422T050346
CREATED:20211001T124909Z
LAST-MODIFIED:20211001T124909Z
UID:6264-1637400600-1637411400@meeting-planner.it
SUMMARY:CUORI IN GAMBA 20 NOVEMBRE 2021
DESCRIPTION:CLICCA QUI PER L’ISCRIZIONE AL CORSO\nPROGRAMMA\n 
URL:https://meeting-planner.it/evento/cuori-in-gamba-20-novembre-2021/
LOCATION:Hotel San Paolo Al Convento Trani\, Via Statuti Marittimi 111\, Trani\, Italia
ATTACH;FMTTYPE=image/jpeg:https://meeting-planner.it/wp-content/uploads/2021/10/IMMAGINE-MP-SITO.jpg
ORGANIZER;CN="Angela Pavan":MAILTO:angela@meeting-planner.it
END:VEVENT
BEGIN:VEVENT
DTSTART;TZID=Europe/Helsinki:20211112T083000
DTEND;TZID=Europe/Helsinki:20211113T163000
DTSTAMP:20260422T050346
CREATED:20211006T131454Z
LAST-MODIFIED:20211110T135815Z
UID:6316-1636705800-1636821000@meeting-planner.it
SUMMARY:XXVI DENTALEVANTE - XVIII Memorial Giuseppe Sfregola
DESCRIPTION:Sessione Odontoiatria del 12 novembre 2021 -n.6 crediti ECM per n.100 Odontoiatri\nSessione Ortodonzia del 12 novembre 2021 –  n.7 crediti ECM per n.60 Odontoiatri\nSessione Congiunta del 13 novembre 2021 – n.6 crediti ECM per n.100 Odontoiatri \nL’iscrizione è gratuita per Odontoiatri\, Odontotecnici\, Igienisti Dentali\, personale di segreteria\,\nAssistenti di Studio (ASO)\, Studenti \nPROGRAMMA \nISCRIZIONI ONLINE \nREGOLAMENTO CONTEST MASCOTTE 
URL:https://meeting-planner.it/evento/xxvi-dentalevante-xviii-memorial-giuseppe-sfregola/
LOCATION:THE NICOLAUS HOTEL\, Via Cardinale Agostino Ciasca\, 27\, BARI\, 70124\, Italia
ATTACH;FMTTYPE=image/jpeg:https://meeting-planner.it/wp-content/uploads/2021/10/IMMAGINE-PER-SITO-MP-2.jpg
ORGANIZER;CN="Lucia Milone":MAILTO:lucia@meeting-planner.it
END:VEVENT
BEGIN:VEVENT
DTSTART;VALUE=DATE:20211110
DTEND;VALUE=DATE:20211111
DTSTAMP:20260422T050346
CREATED:20211007T104107Z
LAST-MODIFIED:20211104T111057Z
UID:6266-1636502400-1636588799@meeting-planner.it
SUMMARY:SURGICAL DAY IN APULIA
DESCRIPTION:ISCRIZIONI CHIUSE\nPROGRAMMA\nECM (ID evento n. 289530)\nIl Provider ha assegnato all’evento n. 7 crediti.\nL’evento è rivolto a n. 50 Medici chirurghi\, Infermieri\, Fisioterapisti\, Tecnici di Radiologia.\nSpecializzazioni mediche accreditate: Chirurgia Generale\, Anestesia e Rianimazione\, Radiodiagnostica\, Medicina Fisica e Riabilitazione\, Medicina dello Sport\, Continuità Assistenziale sul Territorio\, Chirurgia Plastica\, Medici di Medicina Generale.
URL:https://meeting-planner.it/evento/surgical-day-in-apulia/
LOCATION:Aula Magna G. De Benedictis AOU Consorziale Policlinico Bari\, Piazza Giulio Cesare\, 11\, Bari\, 70124\, Italia
ATTACH;FMTTYPE=image/jpeg:https://meeting-planner.it/wp-content/uploads/2021/10/immagine-per-sito-MP.jpg
ORGANIZER;CN="Angela Pavan":MAILTO:angela@meeting-planner.it
END:VEVENT
END:VCALENDAR