BEGIN:VCALENDAR
VERSION:2.0
PRODID:-//Meeting Planner - ECPv6.15.15//NONSGML v1.0//EN
CALSCALE:GREGORIAN
METHOD:PUBLISH
X-WR-CALNAME:Meeting Planner
X-ORIGINAL-URL:https://meeting-planner.it
X-WR-CALDESC:Eventi per Meeting Planner
REFRESH-INTERVAL;VALUE=DURATION:PT1H
X-Robots-Tag:noindex
X-PUBLISHED-TTL:PT1H
BEGIN:VTIMEZONE
TZID:Europe/Helsinki
BEGIN:DAYLIGHT
TZOFFSETFROM:+0200
TZOFFSETTO:+0300
TZNAME:EEST
DTSTART:20190331T010000
END:DAYLIGHT
BEGIN:STANDARD
TZOFFSETFROM:+0300
TZOFFSETTO:+0200
TZNAME:EET
DTSTART:20191027T010000
END:STANDARD
BEGIN:DAYLIGHT
TZOFFSETFROM:+0200
TZOFFSETTO:+0300
TZNAME:EEST
DTSTART:20200329T010000
END:DAYLIGHT
BEGIN:STANDARD
TZOFFSETFROM:+0300
TZOFFSETTO:+0200
TZNAME:EET
DTSTART:20201025T010000
END:STANDARD
BEGIN:DAYLIGHT
TZOFFSETFROM:+0200
TZOFFSETTO:+0300
TZNAME:EEST
DTSTART:20210328T010000
END:DAYLIGHT
BEGIN:STANDARD
TZOFFSETFROM:+0300
TZOFFSETTO:+0200
TZNAME:EET
DTSTART:20211031T010000
END:STANDARD
BEGIN:DAYLIGHT
TZOFFSETFROM:+0200
TZOFFSETTO:+0300
TZNAME:EEST
DTSTART:20220327T010000
END:DAYLIGHT
BEGIN:STANDARD
TZOFFSETFROM:+0300
TZOFFSETTO:+0200
TZNAME:EET
DTSTART:20221030T010000
END:STANDARD
END:VTIMEZONE
BEGIN:VEVENT
DTSTART;TZID=Europe/Helsinki:20210702T200000
DTEND;TZID=Europe/Helsinki:20210702T220000
DTSTAMP:20260419T235828
CREATED:20210305T185907Z
LAST-MODIFIED:20210611T075929Z
UID:5368-1625256000-1625263200@meeting-planner.it
SUMMARY:ASPETTANDO CHILDREN 2021 - DERMATOLOGIA PEDIATRICA PER IMMAGINI (FAD SINCRONA)
DESCRIPTION:SCARICA IL PROGRAMMA\nISCRIVITI ONLINE
URL:https://meeting-planner.it/evento/aspettando-children-2021-dermatologia-pediatrica-per-immagini-fad-sincrona/
ATTACH;FMTTYPE=image/jpeg:https://meeting-planner.it/wp-content/uploads/2021/03/Immagine-per-SITO-MP-WEB-CHILDREN.jpg
ORGANIZER;CN="Claudia Colagrande":MAILTO:claudia@meeting-planner.it
END:VEVENT
BEGIN:VEVENT
DTSTART;TZID=Europe/Helsinki:20210702T090000
DTEND;TZID=Europe/Helsinki:20210703T133000
DTSTAMP:20260419T235828
CREATED:20210609T082516Z
LAST-MODIFIED:20210630T171608Z
UID:5826-1625216400-1625319000@meeting-planner.it
SUMMARY:Genitorialità
DESCRIPTION:L’evento formativo è rivolto a Medici Chirurghi\, Biologi\, Tecnici Sanitari di Laboratorio Biomedico\, Psicologi\, Infermieri e Ostetriche. \nSaranno previste gratuitamente 40 iscrizioni per l’evento RES (in presenza) e 100 iscrizioni per l’evento FAD (diretta streaming)\nLa Segreteria Organizzativa provvederà a dare conferma scritta dell’avvenuta iscrizione. \nPROGRAMMA SCIENTIFICO – GENITORIALITÀ 2 E 3 LUGLIO – ROMA\nMODULO ISCRIZIONE EVENTO RES (in presenza)\nMODULO ISCRIZIONE EVENTO FAD (diretta streaming)\nCLICCA QUI PER SEGUIRE LA DIRETTA STREMING (passcode 02072021)\n 
URL:https://meeting-planner.it/evento/genitorialita/
LOCATION:Residenza di Ripetta\, Via del Vantaggio\, 45\, Roma\, 00186\, Italia
ATTACH;FMTTYPE=image/png:https://meeting-planner.it/wp-content/uploads/2021/06/GENITORIALITA.png
ORGANIZER;CN="Paola Morciano":MAILTO:paola@meeting-planner.it
END:VEVENT
BEGIN:VEVENT
DTSTART;TZID=Europe/Helsinki:20210701T150000
DTEND;TZID=Europe/Helsinki:20210709T150000
DTSTAMP:20260419T235828
CREATED:20210506T093337Z
LAST-MODIFIED:20210701T125226Z
UID:5640-1625151600-1625842800@meeting-planner.it
SUMMARY:La Procreazione Medicalmente Assistita - Giornate Formative Interattive 2021 - (FSC)
DESCRIPTION:Il Provider ha assegnato all’evento n. 20\,8 crediti formativi. \nIl corso è rivolto n. 15 tra Medici Chirurghi (specialisti in Ginecologia e ostetricia\, Urologia\, Anestesia e Rianimazione)\, Biologi\, Tecnici Sanitari di Laboratorio Biomedico\, Psicologi\, Infermieri\, Ostetriche \nPROGRAMMA\nISCRIZIONI (è stato raggiunto il numero massimo di iscritti)
URL:https://meeting-planner.it/evento/la-procreazione-medicalmente-assistita-giornate-formative-interattive-2021-fsc/
LOCATION:Ospedale Santa Maria Bari\, Via Antonio de Ferraris\, 22\, bari\, 70124
ATTACH;FMTTYPE=image/jpeg:https://meeting-planner.it/wp-content/uploads/2021/05/La-Procreazione.jpg
ORGANIZER;CN="Terry Dellino":MAILTO:terry@meeting-planner.it
END:VEVENT
BEGIN:VEVENT
DTSTART;TZID=Europe/Helsinki:20210625T150000
DTEND;TZID=Europe/Helsinki:20210626T180000
DTSTAMP:20260419T235828
CREATED:20210305T154153Z
LAST-MODIFIED:20210521T081407Z
UID:5284-1624633200-1624730400@meeting-planner.it
SUMMARY:La gestione del paziente con sclerosi multipla (XIX Edizione) La gestione del paziente pediatrico
DESCRIPTION:PROGRAMMA\nISCRIZIONE ONLINE\nCrediti formativi assegnati: 7\,5 \nFigure accreditate: Medici Chirurghi specialisti in Neurologia\, Radiodiagnostica\, Neuroradiologia\, Medicina Fisica e Riabilitazione\, Pediatria\, Pediatri di libera scelta\, Infermieri\, Fisioterapisti\, Tecnici di Radiologia e Psicologi.
URL:https://meeting-planner.it/evento/la-gestione-del-paziente-con-sclerosi-multipla-xix-edizione/
ATTACH;FMTTYPE=image/jpeg:https://meeting-planner.it/wp-content/uploads/2021/03/Immagine-Totaro-new-Web.jpg
ORGANIZER;CN="Angela Pavan":MAILTO:angela@meeting-planner.it
END:VEVENT
BEGIN:VEVENT
DTSTART;TZID=Europe/Helsinki:20210619T090000
DTEND;TZID=Europe/Helsinki:20210619T130000
DTSTAMP:20260419T235828
CREATED:20210521T125954Z
LAST-MODIFIED:20210521T125954Z
UID:5762-1624093200-1624107600@meeting-planner.it
SUMMARY:TERAPIA CON ORMONE DELLA CRESCITA: DALL'ETA' PEDIATRICA ALLA TRANSIZIONE (FAD SINCRONA)
DESCRIPTION:La terapia con ormone della crescita ricombinante (rhGH) rappresenta il trattamento della bassa statura nei bambini con deficit dell’ormone della crescita (GHD)\, nei nati piccoli per l’età gestazionale (SGA) e nei  deficit staturali sindromici.\nGli scopi del trattamento sono di indurre il recupero staturale o catch-up growth; ottenere una statura finale nel range del target genetico o della normalità per patologia; ottenere gli effetti del somatormone a livello metabolico; minimizzare i possibili rischi della terapia; ottimizzare i costi. I risultati finora ottenuti dimostrano una variabilità di riposta nel 25% dei casi di GHD trattati. Inoltre\, un ritardo nell’inizio della terapia nei bambini nati SGA ed in quelli con bassa statura sindromica\, qualora giungano tardivamente all’attenzione dello specialista endocrinologo\, condiziona i risultati in termini di guadagno staturale.\nDa qui è nata l’esigenza di organizzare un convegno incentrato sul trattamento con ormone della crescita dall’età pediatrica all’età di transizione\, che rappresenta il momento delicato del passaggio all’età adulta\, allo scopo di migliorare le conoscenze sulle diverse forme di deficit staturale che possono beneficiare del trattamento con rhGH e di mettere a confronto lo specialista endocrinologo con il pediatra di famiglia. Infatti\, il\npediatra di famiglia può svolgere un ruolo fondamentale nella gestione del bambino con bassa statura\, non solo nel porre il sospetto di GHD o di altre condizioni patologiche\, ma anche nell’orientare il percorso diagnostico in collaborazione con il Centro specialistico\, nel monitorare il trattamento\, e nel dare ai bambini e ai loro genitori l’adeguato supporto affinché la terapia venga eseguita nel modo corretto. \nSCARICA IL PROGRAMMA \nISCRIVITI ONLINE
URL:https://meeting-planner.it/evento/terapia-con-ormone-della-crescita-dalleta-pediatrica-alla-transizione-fad-sincrona-2/
ATTACH;FMTTYPE=image/jpeg:https://meeting-planner.it/wp-content/uploads/2021/05/COPERTINA-SITO-MP.jpg
ORGANIZER;CN="Claudia Colagrande":MAILTO:claudia@meeting-planner.it
END:VEVENT
BEGIN:VEVENT
DTSTART;TZID=Europe/Helsinki:20210618T200000
DTEND;TZID=Europe/Helsinki:20210618T220000
DTSTAMP:20260419T235828
CREATED:20210305T185733Z
LAST-MODIFIED:20210611T075750Z
UID:5366-1624046400-1624053600@meeting-planner.it
SUMMARY:ASPETTANDO CHILDREN 2021 - ERRORI NELL'ALIMENTAZIONE IN PEDIATRIA (FAD SINCRONA)
DESCRIPTION:SCARICA IL PROGRAMMA\nISCRIVITI ONLINE
URL:https://meeting-planner.it/evento/aspettando-children-2021-errori-nellalimentazione-in-pediatria-fad-sincrona/
ATTACH;FMTTYPE=image/jpeg:https://meeting-planner.it/wp-content/uploads/2021/03/Immagine-per-SITO-MP-WEB-CHILDREN.jpg
ORGANIZER;CN="Claudia Colagrande":MAILTO:claudia@meeting-planner.it
END:VEVENT
BEGIN:VEVENT
DTSTART;TZID=Europe/Helsinki:20210612T200000
DTEND;TZID=Europe/Helsinki:20210612T220000
DTSTAMP:20260419T235828
CREATED:20210305T185601Z
LAST-MODIFIED:20210611T075604Z
UID:5364-1623528000-1623535200@meeting-planner.it
SUMMARY:ASPETTANDO CHILDREN 2021 - FREQUENTI PROBLEMI IN OCULISTICA PEDIATRICA (FAD SINCRONA)
DESCRIPTION:SCARICA IL PROGRAMMA\nISCRIVITI ONLINE
URL:https://meeting-planner.it/evento/aspettando-children-2021-frequenti-problemi-in-oculistica-pediatrica-fad-sincrona/
ATTACH;FMTTYPE=image/jpeg:https://meeting-planner.it/wp-content/uploads/2021/03/Immagine-per-SITO-MP-WEB-CHILDREN.jpg
ORGANIZER;CN="Claudia Colagrande":MAILTO:claudia@meeting-planner.it
END:VEVENT
BEGIN:VEVENT
DTSTART;TZID=Europe/Helsinki:20210605T100000
DTEND;TZID=Europe/Helsinki:20210605T121500
DTSTAMP:20260419T235828
CREATED:20210305T142040Z
LAST-MODIFIED:20210510T095818Z
UID:5211-1622887200-1622895300@meeting-planner.it
SUMMARY:Gestione pratica del dolore non oncologico - FAD SINCRONA
DESCRIPTION:PROGRAMMA SCIENTIFICO\nISCRIZIONE ONLINE\nFAD SINCRONA \nIl Provider ha assegnato all’evento n. 3 crediti formativi. \nSpecializzazioni accreditate: Reumatologia\, Ortopedia e Traumatologia\, Medicina Fisica e Riabilitazione\, Medicina Generale (medico di famiglia)\, Medicina Interna\, Nefrologia\, Anestesia e rianimazione.
URL:https://meeting-planner.it/evento/gestione-pratica-del-dolore-non-oncologico-fad-sincrona/
ATTACH;FMTTYPE=image/jpeg:https://meeting-planner.it/wp-content/uploads/2021/03/Immagine-per-sito-MP-7.jpg
ORGANIZER;CN="Stella Menolascina":MAILTO:stella@meeting-planner.it
END:VEVENT
BEGIN:VEVENT
DTSTART;TZID=Europe/Helsinki:20210604T200000
DTEND;TZID=Europe/Helsinki:20210604T220000
DTSTAMP:20260419T235828
CREATED:20210305T185255Z
LAST-MODIFIED:20210305T185326Z
UID:5360-1622836800-1622844000@meeting-planner.it
SUMMARY:ASPETTANDO CHILDREN 2021 - VACCINAZIONI E PEDIATRIA: PRESENTE E FUTURO (FAD SINCRONA)
DESCRIPTION:PROGRAMMA DISPONIBILE A BREVE \n 
URL:https://meeting-planner.it/evento/aspettando-children-2021-vaccinazioni-e-pediatria-presente-e-futuro-fad-sincrona/
ATTACH;FMTTYPE=image/jpeg:https://meeting-planner.it/wp-content/uploads/2021/03/Immagine-per-SITO-MP-WEB-CHILDREN.jpg
ORGANIZER;CN="Claudia Colagrande":MAILTO:claudia@meeting-planner.it
END:VEVENT
BEGIN:VEVENT
DTSTART;TZID=Europe/Helsinki:20210603T163000
DTEND;TZID=Europe/Helsinki:20210604T193000
DTSTAMP:20260419T235828
CREATED:20210305T151916Z
LAST-MODIFIED:20210506T105951Z
UID:5279-1622737800-1622835000@meeting-planner.it
SUMMARY:CORSO REGIONALE AIAC PUGLIA 2021
DESCRIPTION:Programma Corso Regionale AIAC Puglia 2021\nIscrizione online\n  \nCrediti formativi assegnati: 9\n 
URL:https://meeting-planner.it/evento/corso-regionale-aiac-puglia-2021/
ATTACH;FMTTYPE=image/jpeg:https://meeting-planner.it/wp-content/uploads/2021/02/398-2871_Pellegrino_FAD_03-040621_W-02.jpg
ORGANIZER;CN="Angela Pavan":MAILTO:angela@meeting-planner.it
END:VEVENT
BEGIN:VEVENT
DTSTART;TZID=Europe/Helsinki:20210528T083000
DTEND;TZID=Europe/Helsinki:20210528T133000
DTSTAMP:20260419T235828
CREATED:20210426T154341Z
LAST-MODIFIED:20210506T110720Z
UID:5598-1622190600-1622208600@meeting-planner.it
SUMMARY:LE SFIDE FUTURE PER L'ASSISTENZA DEL BAMBINO E DELL'ADULTO CON SINDROME DI PRADER-WILLI (FAD SINCRONA)
DESCRIPTION:SCARICA IL PROGRAMMA\nISCRIVITI ONLINE
URL:https://meeting-planner.it/evento/le-sfide-future-per-lassistenza-del-bambino-e-delladulto-con-sindrome-di-prader-willi/
ATTACH;FMTTYPE=image/jpeg:https://meeting-planner.it/wp-content/uploads/2021/04/COPERTINA-FAIENZA-MP.jpg
ORGANIZER;CN="Claudia Colagrande":MAILTO:claudia@meeting-planner.it
END:VEVENT
BEGIN:VEVENT
DTSTART;TZID=Europe/Helsinki:20210526T160000
DTEND;TZID=Europe/Helsinki:20210526T183000
DTSTAMP:20260419T235828
CREATED:20210513T154650Z
LAST-MODIFIED:20210514T125448Z
UID:5720-1622044800-1622053800@meeting-planner.it
SUMMARY:L'IMPATTO DELLA FOTOAFERESI NEI PROCESSI DI CURA. Una valutazione sul valore e gli esiti (WEBINAR)
DESCRIPTION:Il quadro legislativo che regolamenta i processi di approvvigionamento da parte delle Pubbliche Amministrazioni ed in particolare degli Enti del SSN dovrà affrontare nei prossimi mesi anche le sfide connesse all’uso efficace delle risorse che saranno rese disponibili attraverso il Recovery Plan e il MES.\nLa particolare contingenza sopra delineata potrà essere vissuta sia mantenendo un approccio di conferma delle prassi consolidate sia scegliendo un modello di disruptive innovation che permetta di adeguare la capacità di risposta alla domanda sanitaria alla velocità e complessità dei bisogni assistenziali.\nAiSDeT (Associazione Italiana di Sanità Digitale e Telemedicina) www.aisdet.it – promuove con gli attori coinvolti nella gestione del processo di cura in Fotoaferesi delle Aziende Sanitarie (Responsabili dei centri trasfusionali e dei reparti ematologici\, Farmacisti ospedalieri e Provveditori) un processo di confronto comune\, organizzato attraverso un ciclo di incontri\, per valutarne l’impatto sui processi di cura \nSCARICA IL PROGRAMMA \nISCRIVITI ONLINE
URL:https://meeting-planner.it/evento/limpatto-della-fotoaferesi-nei-processi-di-cura-una-valutazione-sul-valore-e-gli-esiti/
ATTACH;FMTTYPE=image/jpeg:https://meeting-planner.it/wp-content/uploads/2021/05/Locandina_26maggio2021-sito-MP.jpg
ORGANIZER;CN="Claudia Colagrande":MAILTO:claudia@meeting-planner.it
END:VEVENT
BEGIN:VEVENT
DTSTART;VALUE=DATE:20210519
DTEND;VALUE=DATE:20210523
DTSTAMP:20260419T235828
CREATED:20210305T144111Z
LAST-MODIFIED:20210305T144111Z
UID:5250-1621382400-1621727999@meeting-planner.it
SUMMARY:3° CORSO BASE di MICROCHIRURGIA
DESCRIPTION:3° CORSO MICROCHIRURGIA PROGRAMMA
URL:https://meeting-planner.it/evento/3-corso-base-di-microchirurgia/
LOCATION:AOU Consorziale Policlinico Bari\, Piazza Giulio Cesare\, Bari\, Italia
ATTACH;FMTTYPE=image/jpeg:https://meeting-planner.it/wp-content/uploads/2019/12/MP-SLIDE-19-22-MAGGIO-2021.jpg
ORGANIZER;CN="Angela Pavan":MAILTO:angela@meeting-planner.it
END:VEVENT
BEGIN:VEVENT
DTSTART;VALUE=DATE:20210517
DTEND;VALUE=DATE:20210520
DTSTAMP:20260419T235828
CREATED:20210305T143816Z
LAST-MODIFIED:20210305T143816Z
UID:5243-1621209600-1621468799@meeting-planner.it
SUMMARY:4° CORSO BASE di MICROCHIRURGIA
DESCRIPTION:4° CORSO MICROCHIRURGIA PROGRAMMA
URL:https://meeting-planner.it/evento/4-corso-base-di-microchirurgia/
LOCATION:AOU Consorziale Policlinico Bari\, Piazza Giulio Cesare\, Bari\, Italia
ATTACH;FMTTYPE=image/jpeg:https://meeting-planner.it/wp-content/uploads/2021/03/MP-SLIDE-17-19-MAGGIO-2021.jpg
ORGANIZER;CN="Angela Pavan":MAILTO:angela@meeting-planner.it
END:VEVENT
BEGIN:VEVENT
DTSTART;TZID=Europe/Helsinki:20210428T150000
DTEND;TZID=Europe/Helsinki:20210428T173000
DTSTAMP:20260419T235828
CREATED:20210305T151056Z
LAST-MODIFIED:20210305T151056Z
UID:5274-1619622000-1619631000@meeting-planner.it
SUMMARY:CUORI IN GAMBA 28 Aprile
DESCRIPTION:PROGRAMMA CUORI IN GAMBA 28 aprile 2021 \nDETTAGLI EVENTO \n 
URL:https://meeting-planner.it/evento/cuori-in-gamba-28-aprile/
ATTACH;FMTTYPE=image/jpeg:https://meeting-planner.it/wp-content/uploads/2021/03/ITLAV-IMMAGINE-CUORI-IN-GAMBA.jpg
ORGANIZER;CN="Angela Pavan":MAILTO:angela@meeting-planner.it
END:VEVENT
BEGIN:VEVENT
DTSTART;TZID=Europe/Helsinki:20210422T180000
DTEND;TZID=Europe/Helsinki:20210422T210000
DTSTAMP:20260419T235828
CREATED:20210305T133154Z
LAST-MODIFIED:20210416T141722Z
UID:5218-1619114400-1619125200@meeting-planner.it
SUMMARY:Combattere la perimplantite con la semplicità biologica\, ritorno al futuro - "La tecnica non sommersa come miglior garanzia possibile per un futuro sereno"
DESCRIPTION:PROGRAMMA SCIENTIFICO \nISCRIZIONE ONLINE \nIl Provider ha assegnato all’evento n. 4\,5 crediti formativi. \nIl webinar è accreditato per Odontoiatri e Igienisti Dentali. \nL’iscrizione è aperta anche agli Assistenti di Studio Odontoiatrico.
URL:https://meeting-planner.it/evento/combattere-la-perimplantite-con-la-semplicita-biologica-ritorno-al-futuro-la-tecnica-sommersa-come-miglior-garanzia-possibile-per-un-futuro-sereno/
ATTACH;FMTTYPE=image/jpeg:https://meeting-planner.it/wp-content/uploads/2021/03/IMMAGINE-SITO-MP.jpg
ORGANIZER;CN="Stella Menolascina":MAILTO:stella@meeting-planner.it
END:VEVENT
BEGIN:VEVENT
DTSTART;TZID=Europe/Helsinki:20210421T150000
DTEND;TZID=Europe/Helsinki:20210421T173000
DTSTAMP:20260419T235828
CREATED:20210305T150811Z
LAST-MODIFIED:20210305T150811Z
UID:5270-1619017200-1619026200@meeting-planner.it
SUMMARY:CUORI IN GAMBA 21 Aprile
DESCRIPTION:PROGRAMMA CUORI IN GAMBA 21 aprile 2021 \nDETTAGLI EVENTO \n 
URL:https://meeting-planner.it/evento/cuori-in-gamba-21-aprile/
ATTACH;FMTTYPE=image/jpeg:https://meeting-planner.it/wp-content/uploads/2021/03/ITLAV-IMMAGINE-CUORI-IN-GAMBA.jpg
ORGANIZER;CN="Angela Pavan":MAILTO:angela@meeting-planner.it
END:VEVENT
BEGIN:VEVENT
DTSTART;TZID=Europe/Helsinki:20210417T090000
DTEND;TZID=Europe/Helsinki:20210417T170000
DTSTAMP:20260419T235828
CREATED:20210305T184606Z
LAST-MODIFIED:20210416T103213Z
UID:5358-1618650000-1618678800@meeting-planner.it
SUMMARY:IL BAMBINO EMOFILICO IV...OLTRE I LIMITI (FAD SINCRONA)
DESCRIPTION:SCARICA IL PROGRAMMA\nISCRIVITI ONLINE
URL:https://meeting-planner.it/evento/il-bambino-emofilico-oltre-i-limiti-fad-sincrona/
ATTACH;FMTTYPE=image/jpeg:https://meeting-planner.it/wp-content/uploads/2021/03/immnagine-SITO-MP-giordano.jpg
ORGANIZER;CN="Claudia Colagrande":MAILTO:claudia@meeting-planner.it
END:VEVENT
BEGIN:VEVENT
DTSTART;TZID=Europe/Helsinki:20210415T150000
DTEND;TZID=Europe/Helsinki:20210415T173000
DTSTAMP:20260419T235828
CREATED:20210305T150153Z
LAST-MODIFIED:20210305T150153Z
UID:5264-1618498800-1618507800@meeting-planner.it
SUMMARY:CUORI IN GAMBA 15 Aprile
DESCRIPTION:PROGRAMMA CUORI IN GAMBA 15 aprile 2021 \nDETTAGLI EVENTO \n 
URL:https://meeting-planner.it/evento/cuori-in-gamba-15-aprile/
ATTACH;FMTTYPE=image/jpeg:https://meeting-planner.it/wp-content/uploads/2021/03/ITLAV-IMMAGINE-CUORI-IN-GAMBA.jpg
ORGANIZER;CN="Angela Pavan":MAILTO:angela@meeting-planner.it
END:VEVENT
BEGIN:VEVENT
DTSTART;TZID=Europe/Helsinki:20210414T150000
DTEND;TZID=Europe/Helsinki:20210414T173000
DTSTAMP:20260419T235828
CREATED:20210305T150526Z
LAST-MODIFIED:20210305T150526Z
UID:5268-1618412400-1618421400@meeting-planner.it
SUMMARY:CUORI IN GAMBA 14 Aprile
DESCRIPTION:PROGRAMMA CUORI IN GAMBA 14 aprile 2021 \nDETTAGLI EVENTO \n 
URL:https://meeting-planner.it/evento/cuori-in-gamba-14-aprile/
ATTACH;FMTTYPE=image/jpeg:https://meeting-planner.it/wp-content/uploads/2021/03/ITLAV-IMMAGINE-CUORI-IN-GAMBA.jpg
ORGANIZER;CN="Angela Pavan":MAILTO:angela@meeting-planner.it
END:VEVENT
BEGIN:VEVENT
DTSTART;TZID=Europe/Helsinki:20210410T083000
DTEND;TZID=Europe/Helsinki:20210410T133000
DTSTAMP:20260419T235828
CREATED:20210302T155956Z
LAST-MODIFIED:20210329T124409Z
UID:5175-1618043400-1618061400@meeting-planner.it
SUMMARY:ACCENDIAMO I RIFLETTORI SUL DIABETE TIPO 1
DESCRIPTION:SCARICA IL PROGRAMMA\nISCRIVITI ONLINE
URL:https://meeting-planner.it/evento/accendiamo-i-riflettori-sul-diabete-tipo-1/
ATTACH;FMTTYPE=image/jpeg:https://meeting-planner.it/wp-content/uploads/2021/03/398-2856_Citro_Potenza_211120_W-01.jpg
ORGANIZER;CN="Claudia Colagrande":MAILTO:claudia@meeting-planner.it
END:VEVENT
BEGIN:VEVENT
DTSTART;VALUE=DATE:20210325
DTEND;VALUE=DATE:20210327
DTSTAMP:20260419T235828
CREATED:20210216T141053Z
LAST-MODIFIED:20210301T094324Z
UID:5019-1616630400-1616803199@meeting-planner.it
SUMMARY:LA GESTIONE DEL PAZIENTE CON SCLEROSI MULTIPLA - XVIII Edizione - La gestione multidisciplinare della terapia
DESCRIPTION:PROGRAMMA\nISCRIZIONE ONLINE\nIl Provider ha attribuito all’evento n. 9 crediti.\nFigure Professionali accreditate: Neurologia\, Cardiologia\, Continuità Assistenziale\, Dermatologia e Venereologia\, Direzione Medica di Presidio Ospedaliero\, Ginecologia e Ostetricia\, Malattie Infettive\, Medicina Fisica e Riabilitazione\, Medicina Interna\, Radiodiagnostica\, Scienza dell’Alimentazione e Dietetica\, Endocrinologia\, Epidemiologia\, Farmacologia e Tossicologia Clinica e Medici di Medicina Generale\, e a Psicologi\, Fisioterapisti\, Tecnici di Neurofisiopatologia e Infermieri.
URL:https://meeting-planner.it/evento/la-gestione-del-paziente-con-sclerosi-multipla-xviii-edizione-la-gestione-multidisciplinare-della-terapia/
LOCATION:FAD ASINCRONA
ATTACH;FMTTYPE=image/jpeg:https://meeting-planner.it/wp-content/uploads/2021/02/Immagine-totaro-sito-scaled.jpg
ORGANIZER;CN="Claudia Colagrande":MAILTO:claudia@meeting-planner.it
END:VEVENT
BEGIN:VEVENT
DTSTART;TZID=Europe/Helsinki:20210322T150000
DTEND;TZID=Europe/Helsinki:20210322T180000
DTSTAMP:20260419T235828
CREATED:20210305T144503Z
LAST-MODIFIED:20210316T122145Z
UID:5253-1616425200-1616436000@meeting-planner.it
SUMMARY:Sorveglianza degli eventi avversi dopo le vaccinazioni in gravidanza
DESCRIPTION:Programma Sorveglianza degli eventi avversi dopo le vaccinazioni in gravidanza \nISCRIZIONE ONLINE \n 
URL:https://meeting-planner.it/evento/sorveglianza-degli-eventi-avversi-dopo-le-vaccinazioni-in-gravidanza/
ATTACH;FMTTYPE=image/jpeg:https://meeting-planner.it/wp-content/uploads/2021/02/MP-398-2875_Tafuri_FAD_220321_W-01-2.jpg
ORGANIZER;CN="Angela Pavan":MAILTO:angela@meeting-planner.it
END:VEVENT
BEGIN:VEVENT
DTSTART;TZID=Europe/Helsinki:20210205T090000
DTEND;TZID=Europe/Helsinki:20210206T130000
DTSTAMP:20260419T235828
CREATED:20210126T161904Z
LAST-MODIFIED:20210204T112314Z
UID:4792-1612515600-1612616400@meeting-planner.it
SUMMARY:III Congresso Nazionale A.T.A.S.I.O. "Tailor made e management del paziente implantare tra scienza\, coscienza e fantascienza"
DESCRIPTION:SEGUI IL WEBINAR \nPROGRAMMA \nISCRIZIONI \nLa partecipazione al Congresso è GRATUITA
URL:https://meeting-planner.it/evento/iii-congresso-nazionale-a-t-a-s-i-o-tailor-made-e-management-del-paziente-implantare-tra-scienza-coscienza-e-fantascienza/
LOCATION:FAD ASINCRONA
ATTACH;FMTTYPE=image/jpeg:https://meeting-planner.it/wp-content/uploads/2021/01/COPERTINA-NEW-ATASIO_REV1.jpg
ORGANIZER;CN="Lucia Milone":MAILTO:lucia@meeting-planner.it
END:VEVENT
BEGIN:VEVENT
DTSTART;TZID=Europe/Helsinki:20210128T180000
DTEND;TZID=Europe/Helsinki:20210128T200000
DTSTAMP:20260419T235828
CREATED:20210122T145841Z
LAST-MODIFIED:20210126T204810Z
UID:4760-1611856800-1611864000@meeting-planner.it
SUMMARY:"IMPACT PUGLIA" COME AUMENTA LA FRUIZIONE CULTURA E TURISTICA ATTRAVERSO L’ESPERIENZA VIRTUALE E DIGITALE”
DESCRIPTION:Segui la diretta Facebook su\nMEETIG PLANNER\nUNIVERSITA’ DEGLI STUDI DI FOGGIA\nSCARICA IL PROGRAMMA
URL:https://meeting-planner.it/evento/come-aumenta-la-fruizione-cultura-e-turistica-attraverso-lesperienza-virtuale-e-digitale/
ATTACH;FMTTYPE=image/jpeg:https://meeting-planner.it/wp-content/uploads/2021/01/impact.jpg
END:VEVENT
BEGIN:VEVENT
DTSTART;TZID=Europe/Helsinki:20210119T150000
DTEND;TZID=Europe/Helsinki:20210119T170000
DTSTAMP:20260419T235828
CREATED:20200721T082843Z
LAST-MODIFIED:20201021T075431Z
UID:3803-1611068400-1611075600@meeting-planner.it
SUMMARY:Progetto Formativo CROSSTEAM Campania
DESCRIPTION:PROGRAMMA CORSO \nISCRIZIONE ONLINE \nDate Incontri Webinar  \n\n25 Settembre 2020 I Incontro formativo (2 ore)\n19 Gennaio 2021 II Incontro formativo (1 ora)\n\nPer l’acquisizione dei crediti formativi ECM è obbligatorio partecipare a tutti e due i Webinar. \nIl Provider ha assegnato n.4\,5 crediti formativi. Il Webinar è rivolto a n.100 medici specialisti in pneumologia\, medici di distretto\, medici di medicina generale.
URL:https://meeting-planner.it/evento/progetto-formativo-crossteam-campania/
ATTACH;FMTTYPE=image/jpeg:https://meeting-planner.it/wp-content/uploads/2020/07/CROSSTEAM-CAMPANIA-SLIDE-SITO-MP-new-2020-2021.jpg
ORGANIZER;CN="Claudia Colagrnde":MAILTO:angela@meeting-planner.it
END:VEVENT
BEGIN:VEVENT
DTSTART;VALUE=DATE:20201212
DTEND;VALUE=DATE:20201213
DTSTAMP:20260419T235828
CREATED:20201118T160406Z
LAST-MODIFIED:20201124T165901Z
UID:4572-1607731200-1607817599@meeting-planner.it
SUMMARY:L'EMATOLOGIA PEDIATRICA...TRA OSPEDALE E TERRITORIO
DESCRIPTION:PROGRAMMA\nISCRIZIONE ONLINE\nIl Provider ha attribuito 7\,5 crediti formativi. \nIl Webinar è rivolto a Medici specialisti in Ematologia\, Pediatria e Pediatria di libera scelta\, Medicina Interna\, Medicina e chirurgia di aggettazione e d’urgenza\, medicina dello sporto\, igiene\, epidemiologia e sanità pubblica\, radiodiagnostica ed a Biologi\, FIsioterapisti\, Psicologi e Psicoterapisti\, Farmacisti Ospedalieri e Territoriali. \nAl termine del Webinar verrà premiata\, dalla Fondazione Federico Vecchio Onlus\, la migliore comunicazione orale tra quelle in programma\, presentate da giovani medici pediatri.
URL:https://meeting-planner.it/evento/lematologia-pediatrica-tra-ospedale-e-territorio/
ATTACH;FMTTYPE=image/jpeg:https://meeting-planner.it/wp-content/uploads/2020/11/immagine-per-sito-giordano.jpg
ORGANIZER;CN="Claudia Colagrande":MAILTO:claudia@meeting-planner.it
END:VEVENT
BEGIN:VEVENT
DTSTART;TZID=Europe/Helsinki:20201210T170000
DTEND;TZID=Europe/Helsinki:20201210T200000
DTSTAMP:20260419T235828
CREATED:20201029T092356Z
LAST-MODIFIED:20201111T120033Z
UID:4470-1607619600-1607630400@meeting-planner.it
SUMMARY:Corso di aggiornamento in PMA
DESCRIPTION:PROGRAMMA \nISCRIZIONE ONLINE \nIl Provider ha assegnato all’evento n.5\,4 crediti formativi (Webinar FAD sincrona) \nDestinatari dell’attività formativa: n.500 partecipanti. \nFigure professionali: medici chirurghi specialisti in ginecologia e ostetricia e genetica medica; biologi\, ostetriche\, infermieri professionali\, psicologi
URL:https://meeting-planner.it/evento/corso-di-aggiornamento-in-pma/
ATTACH;FMTTYPE=image/jpeg:https://meeting-planner.it/wp-content/uploads/2020/10/IMMAGINE-DI-COPERTINA-PER-SITO-MP.jpg
ORGANIZER;CN="Angela Pavan":MAILTO:angela@meeting-planner.it
END:VEVENT
BEGIN:VEVENT
DTSTART;VALUE=DATE:20201204
DTEND;VALUE=DATE:20201205
DTSTAMP:20260419T235828
CREATED:20201118T152634Z
LAST-MODIFIED:20201118T155044Z
UID:4559-1607040000-1607126399@meeting-planner.it
SUMMARY:LA GESTIONE DEL PAZIENTE CON SCLEROSI MULTIPLA: L'ORGANIZZAZIONE DEI CENTRI DI SCLEROSI MULTIPLA
DESCRIPTION:PROGRAMMA\nISCRIZIONE ONLINE\nIl Provider ha attribuito all’evento n. 9 crediti.\nFigure Professionali accreditate: Neurologia\, Cardiologia\, Continuità Assistenziale\, Dermatologia e Venereologia\, Direzione Medica di Presidio Ospedaliero\, Ginecologia e Ostetricia\, Malattie Infettive\, Medicina Fisica e Riabilitazione\, Medicina Interna\, Radiodiagnostica\, Scienza dell’Alimentazione e Dietetica\, Endocrinologia\, Epidemiologia\, Farmacologia e Tossicologia Clinica e Medici di Medicina Generale ed a  Psicologi\, Fisioterapisti\, Tecnici Sanitari di Radiologia Medica\, Terapisti Occupazionali e Infermieri.
URL:https://meeting-planner.it/evento/la-gestione-del-paziente-con-sclerosi-multipla/
ATTACH;FMTTYPE=image/jpeg:https://meeting-planner.it/wp-content/uploads/2020/11/newsletter-totaro-4_12.jpg
ORGANIZER;CN="Claudia Colagrande":MAILTO:claudia@meeting-planner.it
END:VEVENT
BEGIN:VEVENT
DTSTART;TZID=Europe/Helsinki:20201202T150000
DTEND;TZID=Europe/Helsinki:20201202T160000
DTSTAMP:20260419T235828
CREATED:20200721T082930Z
LAST-MODIFIED:20201125T090213Z
UID:3805-1606921200-1606924800@meeting-planner.it
SUMMARY:Progetto Formativo CROSSTEAM Puglia
DESCRIPTION:COMPILA LA SURVEY PER PARTECIPARE AL WEBINAR \nPROGRAMMA \nISCRIZIONE ONLINE \nDate Incontri Webinar: \n\n9 Ottobre I Incontro formativo (2 ore)\n16 Dicembre II Incontro formativo (1 ora)\n\nPer l’acquisizione dei crediti formativi ECM è obbligatorio aver partecipato a tutti e due i Webinar. \nIl Provider ha assegnato n.4\,5 crediti formativi. Il Webinar è rivolto a n.100 medici specialisti in pneumologia\, medici di distretto\, medici di medicina generale.
URL:https://meeting-planner.it/evento/progetto-formativo-crossteam-puglia/
ATTACH;FMTTYPE=image/jpeg:https://meeting-planner.it/wp-content/uploads/2020/07/398-2848_GSK_FAD-Sincrona_Puglia_20_W-01-immagine-per-sito-MP-9-ott-16-dic-2020.jpg
ORGANIZER;CN="Claudia Colagrnde":MAILTO:angela@meeting-planner.it
END:VEVENT
END:VCALENDAR