BEGIN:VCALENDAR
VERSION:2.0
PRODID:-//Meeting Planner - ECPv6.15.15//NONSGML v1.0//EN
CALSCALE:GREGORIAN
METHOD:PUBLISH
X-WR-CALNAME:Meeting Planner
X-ORIGINAL-URL:https://meeting-planner.it
X-WR-CALDESC:Eventi per Meeting Planner
REFRESH-INTERVAL;VALUE=DURATION:PT1H
X-Robots-Tag:noindex
X-PUBLISHED-TTL:PT1H
BEGIN:VTIMEZONE
TZID:Europe/Helsinki
BEGIN:DAYLIGHT
TZOFFSETFROM:+0200
TZOFFSETTO:+0300
TZNAME:EEST
DTSTART:20180325T010000
END:DAYLIGHT
BEGIN:STANDARD
TZOFFSETFROM:+0300
TZOFFSETTO:+0200
TZNAME:EET
DTSTART:20181028T010000
END:STANDARD
BEGIN:DAYLIGHT
TZOFFSETFROM:+0200
TZOFFSETTO:+0300
TZNAME:EEST
DTSTART:20190331T010000
END:DAYLIGHT
BEGIN:STANDARD
TZOFFSETFROM:+0300
TZOFFSETTO:+0200
TZNAME:EET
DTSTART:20191027T010000
END:STANDARD
BEGIN:DAYLIGHT
TZOFFSETFROM:+0200
TZOFFSETTO:+0300
TZNAME:EEST
DTSTART:20200329T010000
END:DAYLIGHT
BEGIN:STANDARD
TZOFFSETFROM:+0300
TZOFFSETTO:+0200
TZNAME:EET
DTSTART:20201025T010000
END:STANDARD
END:VTIMEZONE
BEGIN:VEVENT
DTSTART;TZID=Europe/Helsinki:20190920T083000
DTEND;TZID=Europe/Helsinki:20190920T190000
DTSTAMP:20260421T064624
CREATED:20190701T112951Z
LAST-MODIFIED:20190712T093713Z
UID:1507-1568968200-1569006000@meeting-planner.it
SUMMARY:CORSO DI CHIRURGIA ORALE ED IMPLANTOLOGIA. CHIRURGIA DAL VIVO "30 ANNI DI IMPLANTOLOGIA: COSA TENERE\, COSA BUTTARE" - EDIZIONE AUTUNNALE 2019
DESCRIPTION:“VUOI CONQUISTARE LA FIDUCIA E CREARE L’EMPATIA CON IL TUO PAZIENTE GIÀ DAL PRIMO APPUNTAMENTO?”\nL’approccio\, l’accoglienza in studio\, le tecniche utilizzate nel corso del trattamento sono estremamente importanti per la cura del paziente.\n\n  \nFACCIAMO LA DIFFERENZA  \nLA CULTURA ODONTOIATRICA È FRUIBILE A DIVERSI LIVELLI E GENERALMENTE INSEGNA METODI E COMPETENZE.\nCON QUESTO CORSO INTENDIAMO FARE DI PIÙ E AIUTARE CHI INTRAPRENDE LA PROFESSIONE A INSTAURARE UNA RELAZIONE DI RECIPROCITÀ CON IL PAZIENTE.\nLa presentazione del Dott. Maffei\, Responsabile Scientifico del Corso\n \n30 ANNI DI IMPLANTOLOGIA\, 30 ANNI DI SUCCESSO.\nNON SOLO COMPETENZE TECNICHE\n\n\nL’edizione 2019 mette a disposizione dei partecipanti numerose tecnologie per poter usufruire di immagini live e registrate. I contenuti del corso sono vari: chirurgia orale\, parodontologia\, cisti\, implantologia\, estrazioni.\n\n\nCONTATTO DIRETTO CON IL PAZIENTE\n\n\nIl corso\, incentrato su un concetto nuovo\, permette di conquistare la presenza e la fiducia del paziente accompagnandolo nel percorso terapeutico dal suo arrivo in sala alla sua dimissione.\n\n\nCHIRURGIA DAL VIVO\n\n\nLa chirurgia dal vivo è effettuata in sede e trasmessa in diretta con la possibilità per i partecipanti di interagire e fare domande ad hoc.\n\n\nPIANO TERAPEUTICO PERSONALIZZATO\n\n\nCaratteristica peculiare del corso è quella di scegliere insieme il piano di trattamento perché ogni paziente ha diverse esigenze.\n\n\n\nAbilita JavaScript nel browser per completare questo modulo.Per partecipare compila il form e sarai contattato il prima possibile.Nome e Cognome *NomeCognomeCittà *Email *Telefono *Autorizzo al trattamento dei dati personaliWebsiteInvia  \n“DALL’ANIMA AL SORRISO PASSANDO PER L’ETICA E LA PROFESSIONALITÀ”\nDATE\n• 20 SETTEMBRE\n• 18 OTTOBRE\n• 25 OTTOBRE\n• 8 NOVEMBRE\n• 22 NOVEMBRE\n• 6 DICEMBRE\nPROGRAMMA
URL:https://meeting-planner.it/evento/corso-di-chirurgia-orale-ed-implantologia-chirurgia-dal-vivo-30-anni-di-implantologia-cosa-tenere-cosa-buttare/
LOCATION:Studi Dentistici Maffei Dal 1912\, Via Giuseppe Bozzi\, 59\, Bari\, Italia
ATTACH;FMTTYPE=image/jpeg:https://meeting-planner.it/wp-content/uploads/2019/07/CHIRURGIA-ORALE_006_1920_1080_EDIZ_AUTUNNALE-002.jpg
ORGANIZER;CN="Simona Strippoli":MAILTO:segreteria.ecm@meeting-planner.it
END:VEVENT
BEGIN:VEVENT
DTSTART;TZID=Europe/Helsinki:20190920T083000
DTEND;TZID=Europe/Helsinki:20190920T190000
DTSTAMP:20260421T064624
CREATED:20190628T162154Z
LAST-MODIFIED:20190712T095706Z
UID:1469-1568968200-1569006000@meeting-planner.it
SUMMARY:CORSO DI CHIRURGIA ORALE ED IMPLANTOLOGIA - CHIRURGIA DAL VIVO - I INCONTRO
DESCRIPTION:Il corso è accreditato per n. 12 Odontoiatri. Il provider ha attribuito n. 50 crediti formativi. \nI incontro di 6 (ai fini dell’acquisizione dei crediti ECM è obbligatorio prendere parte a tutti gli incontri) \nDate successive: \n18 ottobre 2019 \n25 ottobre 2019 \n8 novembre 2019 \n22 novembre 2019 \n6 dicembre 2019 \nPROGRAMMA \nISCRIZIONE \n  \n 
URL:https://meeting-planner.it/evento/corso-di-chirurgia-orale-ed-implantologia-chirurgia-dal-vivo/
LOCATION:Studi Dentistici Maffei Dal 1912\, Via Giuseppe Bozzi\, 59\, Bari\, Italia
ATTACH;FMTTYPE=image/jpeg:https://meeting-planner.it/wp-content/uploads/2019/07/CHIRURGIA-ORALE_006_1920_1080_EDIZ_AUTUNNALE-002.jpg
ORGANIZER;CN="Simona Strippoli":MAILTO:segreteria.ecm@meeting-planner.it
END:VEVENT
BEGIN:VEVENT
DTSTART;TZID=Europe/Helsinki:20190919T140000
DTEND;TZID=Europe/Helsinki:20190919T184000
DTSTAMP:20260421T064624
CREATED:20190709T151501Z
LAST-MODIFIED:20190828T084601Z
UID:1680-1568901600-1568918400@meeting-planner.it
SUMMARY:DOAC: NUOVE PROSPETTIVE NELLA FIBRILLAZIONE ATRIALE E NELLE ARTERIOPATIE
DESCRIPTION:Programma \nIscrizione on-line  \nIl Provider ha assegnato N. 4 (quattro) crediti formativi ECM.\nIl convegno è rivolto a N. 100 partecipanti tra Medici\, Fisioterapisti\, Tecnici della fisiopatologia cardiocircolatoria e della perfusione cardiovascolare\, Infermieri.\nSpecializzazioni mediche accreditate: cardiologia\, medicina interna\, nefrologia\, medicina e chirurgia di accettazione e di urgenza\, geriatria\, patologia clinica\, ematologia\, neurologia\, medicina fisica e riabilitazione\, medicina trasfusionale\, cardiochirurgia\, chirurgia vascolare\, angiologia\, malattie metaboliche e diabetologia\, medici di medicina generale. \n  \n  \n 
URL:https://meeting-planner.it/evento/doac-nuove-prospettive-nella-fibrillazione-atriale-e-nelle-arteriopatie/
LOCATION:Hotel Parco dei Principi\, Via Vito Vasile\, prolungamento Viale Europa 6\, Bari\, 70128\, Italia
ATTACH;FMTTYPE=image/jpeg:https://meeting-planner.it/wp-content/uploads/2019/07/IMMAGINE-PER-SITO-398-2784_Caldarola_Bari_190919_W-01-002.jpg
ORGANIZER;CN="Anna Spilotros":MAILTO:anna@meeting-planner.it
END:VEVENT
BEGIN:VEVENT
DTSTART;TZID=Europe/Helsinki:20190914T083000
DTEND;TZID=Europe/Helsinki:20190914T180000
DTSTAMP:20260421T064624
CREATED:20190808T142728Z
LAST-MODIFIED:20190808T143304Z
UID:2124-1568449800-1568484000@meeting-planner.it
SUMMARY:IL MANAGEMENT DELLE WHITE SPOT LESIONS
DESCRIPTION:PROGRAMMA \nISCRIZIONI \nIl Provider ha assegnato n.12\,6 crediti formativi. Il corso è riservato a Odontoiatri\, Igienisti Dentali e Studenti.
URL:https://meeting-planner.it/evento/il-management-delle-white-spot-lesions/
LOCATION:Best Western Hotel Globus\, Viale Ippocrate 119\, Roma\, Italia
ATTACH;FMTTYPE=image/jpeg:https://meeting-planner.it/wp-content/uploads/2019/08/Copertina-WSL-per-sito.jpg
ORGANIZER;CN="Lucia Milone":MAILTO:lucia@meeting-planner.it
END:VEVENT
BEGIN:VEVENT
DTSTART;TZID=Europe/Helsinki:20190913T090000
DTEND;TZID=Europe/Helsinki:20190913T143000
DTSTAMP:20260421T064624
CREATED:20190903T160928Z
LAST-MODIFIED:20190903T160928Z
UID:2157-1568365200-1568385000@meeting-planner.it
SUMMARY:VALORIZZARE E INTERPRETARE IL PATRIMONIO MONDIALE: LA RETE DEI SITI UNESCO LOMBARDI
DESCRIPTION:Il convegno rappresenta il momento conclusivo del progetto “La rete dei siti UNESCO lombardi: comunicazione e promozione integrata”\, realizzato da Regione Lombardia e cofinanziato dal MIBAC ai sensi della L 77/2006\, e intende essere uno spunto per una riflessione sul significato connesso al riconoscimento di un sito quale Patrimonio Mondiale. Le argomentazioni offriranno esempi e suggestioni di azioni e strumenti adeguati ad una valorizzazione e comunicazione del bene che siano comprensivi dei valori universali eccezionali che esso esprime. \nScarica il programma
URL:https://meeting-planner.it/evento/valorizzare-e-interpretare-il-patrimonio-mondiale-la-rete-dei-siti-unesco-lombardi/
LOCATION:Teatro Bibiena\, Via Accademia\, 47\, Mantova\, Italia\, 46100
ATTACH;FMTTYPE=image/jpeg:https://meeting-planner.it/wp-content/uploads/2019/09/immagine-sito-Mantova.jpg
ORGANIZER;CN="Claudia Colagrande":MAILTO:claudia@meeting-planner.it
END:VEVENT
BEGIN:VEVENT
DTSTART;TZID=Europe/Helsinki:20190913T083000
DTEND;TZID=Europe/Helsinki:20190913T160000
DTSTAMP:20260421T064624
CREATED:20190725T111510Z
LAST-MODIFIED:20190828T111237Z
UID:2063-1568363400-1568390400@meeting-planner.it
SUMMARY:V GIORNATA DELLE PROFESSIONI SANITARIE "L'acqua: sicurezza e qualità\, binomio indissolubile"
DESCRIPTION:Programma \nIscrizioni \nAbstract form \nIl Provider ha assegnato n.4 crediti formativi. Il convegno è riservato a Medici chirurghi specialisti in Igiene degli alimenti e della nutrizione\, Igiene\, Epidemiologia e Sanità Pubblica\, Medicina del lavoro e sicurezza degli ambienti di lavoro\, Veterinari\, Biologi\, Infermieri\, Assistenti Sanitari\, Dietisti\, Tecnici della prevenzione nell’ambiente e nei luoghi di lavoro\, Tecnici sanitari di laboratorio biomedico
URL:https://meeting-planner.it/evento/v-giornata-delle-professioni-sanitarie-lacqua-sicurezza-e-qualita-binomio-indissolubile/
LOCATION:Auditorium Ospedale Madonna delle Grazie\, Contrada Cattedra Ambulante\, Matera\, Italia
ATTACH;FMTTYPE=image/jpeg:https://meeting-planner.it/wp-content/uploads/2019/07/COPERTINA-PER-SITO-Rizzi-1.jpg
ORGANIZER;CN="Lucia Milone":MAILTO:lucia@meeting-planner.it
END:VEVENT
BEGIN:VEVENT
DTSTART;TZID=Europe/Helsinki:20190912T130000
DTEND;TZID=Europe/Helsinki:20190913T140000
DTSTAMP:20260421T064624
CREATED:20190704T105538Z
LAST-MODIFIED:20190725T085259Z
UID:1580-1568293200-1568383200@meeting-planner.it
SUMMARY:2° CONGRESSO REGIONALE SIRU Puglia
DESCRIPTION:PROGRAMMA \nISCRIZIONE ONLINE \nCodice evento n.269097: Destinatari dell’iniziativa: 150 persone – Crediti formativi assegnati: 9 \nFigure professionali: Medici Chirurghi specialisti in ginecologia\, endocrinologia\, urologia\, genetica medica\, psicologia\, patologia clinica\, medici di medicina generale; Biologi\, Ostetrici\, Psicologi e Tecnici sanitari di laboratorio biomedico
URL:https://meeting-planner.it/evento/2-congresso-regionale-siru-puglia/
LOCATION:Arthotel & Park\, Via de Chirico Giorgio\, 1\, Lecce\, Italia
ATTACH;FMTTYPE=image/jpeg:https://meeting-planner.it/wp-content/uploads/2019/07/immagine-per-sito-MP-def.jpg
ORGANIZER;CN="Claudia Colagrnde":MAILTO:angela@meeting-planner.it
END:VEVENT
BEGIN:VEVENT
DTSTART;TZID=Europe/Helsinki:20190912T101500
DTEND;TZID=Europe/Helsinki:20190914T131000
DTSTAMP:20260421T064624
CREATED:20190626T130832Z
LAST-MODIFIED:20190710T074104Z
UID:1445-1568283300-1568466600@meeting-planner.it
SUMMARY:9.baby symposium 2019
DESCRIPTION:L’evento formativo è rivolto a Medici Chirurghi (specialisti in: endocrinologia\, genetica medica\, oncologia\, ginecologia ed ostetricia\, urologia\, laboratorio di genetica medica\, medicina legale)\,\nBiologi\, Tecnici Sanitari di Laboratorio Biomedico\, Psicologi\, Infermieri e Ostetriche. \nLe prime 100 iscrizioni pervenute saranno gratuite.\nL’iscrizione comprende: partecipazione alle sessioni scientifiche\, coffee break\, lunch e cena (13 settembre)\, badge\, kit congressuale\, attestato di partecipazione \nPROGRAMMA\, ABSTRACT\, ISCRIZIONE ON LINE
URL:https://meeting-planner.it/evento/9-baby-symposium-2019-bologna-12-14-settembre-2019/
LOCATION:Royal Hotel Carlton\, Via Montebello\, 8\, Bologna\, Italia\, 40121\, Italia
ATTACH;FMTTYPE=image/jpeg:https://meeting-planner.it/wp-content/uploads/2019/06/immagine-symposium-2019-sito-web.jpg
ORGANIZER;CN="Terry Dellino":MAILTO:terry@meeting-planner.it
END:VEVENT
BEGIN:VEVENT
DTSTART;VALUE=DATE:20190905
DTEND;VALUE=DATE:20190908
DTSTAMP:20260421T064624
CREATED:20190704T103852Z
LAST-MODIFIED:20190725T083136Z
UID:1575-1567641600-1567900799@meeting-planner.it
SUMMARY:IX CORSO TEORICO-PRATICO di ENDOSCOPIA BRONCHIALE
DESCRIPTION:PROGRAMMA \nISCRIZIONE ON-LINE \n5-6 Settembre – Corso per Medici Chirurghi (max 35 partecipanti)\nCrediti formativi assegnati dal provider: 17\,9 – Codice evento N. 266240\nDiscipline di riferimento: Malattie dell’Apparato Respiratorio\, Anestesia e Rianimazione\, Geriatria\, Medicina Interna\, Otorinolaringoiatria e Pediatria \n7 Settembre – Corso per Infermieri (max 35 partecipanti)\nCrediti formativi assegnati dal provider: 5\,6 – Codice evento N. 266249
URL:https://meeting-planner.it/evento/ix-corso-teorico-pratico-di-endoscopia-bronchiale/
LOCATION:Aula Facoltà di Medicina e Psicologia – A.O.U. Sant’Andrea\, Roma\, Italia
ATTACH;FMTTYPE=image/jpeg:https://meeting-planner.it/wp-content/uploads/2019/07/1920x1080_003-SITO-MP.jpg
ORGANIZER;CN="Claudia Colagrnde":MAILTO:angela@meeting-planner.it
END:VEVENT
BEGIN:VEVENT
DTSTART;TZID=Europe/Helsinki:20190730T100000
DTEND;TZID=Europe/Helsinki:20190730T130000
DTSTAMP:20260421T064624
CREATED:20190726T144042Z
LAST-MODIFIED:20190726T144042Z
UID:2078-1564480800-1564491600@meeting-planner.it
SUMMARY:MArTA - PRESENTAZIONE DELLA NUOVA IDENTITA' VISIVA E DIGITALE DEL MUSEO ARCHEOLOGICO NAZIONALE DI TARANTO
DESCRIPTION:VISUALIZZA INVITO\nCONFERMA LA PARTECIPAZIONE
URL:https://meeting-planner.it/evento/marta-presentazione-della-nuova-identita-visiva-e-digitale-del-museo-archeologico-nazionale-di-taranto/
LOCATION:MArTA – Museo Archeologico Nazionale di Taranto\, Via Cavour\, 10\, Taranto\, Italia
ATTACH;FMTTYPE=image/jpeg:https://meeting-planner.it/wp-content/uploads/2019/07/MARTA_INVITO_con-loghi.jpg
END:VEVENT
BEGIN:VEVENT
DTSTART;VALUE=DATE:20190719
DTEND;VALUE=DATE:20190720
DTSTAMP:20260421T064624
CREATED:20190701T152403Z
LAST-MODIFIED:20190704T122054Z
UID:1522-1563494400-1563580799@meeting-planner.it
SUMMARY:LE MALATTIE REUMATICHE NEL FUTURO
DESCRIPTION:L’approccio alle malattie reumatiche rappresenta sempre una sfida per i medici che si occupano di queste malattie. Recenti acquisizioni immunologiche hanno consentito di chiarire alcuni aspetti fisiopatologici\, portando ad una più precisa definizione delle manifestazioni cliniche e a nuovi approcci terapeutici. La gestione del paziente rimane però compito difficile e richiede un’esperienza clinica da condividere fra gli esperti. L’obiettivo principale del corso è far acquisire ai discenti\, attraverso la presentazione frontale e la discussione\, gli strumenti necessari per una corretta valutazione e gestione dei pazienti affetti da queste malattie. \nIl Provider ha assegnato all’evento n. 6 crediti. \nSpecializzazioni mediche accreditate: Reumatologia\, Medicina Interna\, Dermatologia e Medicina Generale (Medico di famiglia) \nPer informazioni: stella@meeting-planner.it \n  \nPROGRAMMA SCIENTIFICO \nISCRIVITI ONLINE
URL:https://meeting-planner.it/evento/le-malattie-reumatiche-nel-futuro/
LOCATION:AUDITORIUM OSPEDALE SAN PAOLO\, Via Caposcardicchio\, Bari\, Italia
ATTACH;FMTTYPE=image/jpeg:https://meeting-planner.it/wp-content/uploads/2019/07/immagine-sito.jpg
ORGANIZER;CN="Stella Menolascina":MAILTO:stella@meeting-planner.it
END:VEVENT
BEGIN:VEVENT
DTSTART;TZID=Europe/Helsinki:20190712T123000
DTEND;TZID=Europe/Helsinki:20190713T123000
DTSTAMP:20260421T064624
CREATED:20190711T145922Z
LAST-MODIFIED:20190711T153341Z
UID:1863-1562934600-1563021000@meeting-planner.it
SUMMARY:διαβαίνω - DIA.BA.IN.O. STEP 2
DESCRIPTION:Le recenti Consensus internazionali (ADA-EASD) sottolineano l’importanza della centralità del paziente nella gestione del diabete mellito di tipo 2; in particolare i goals terapeutici sono rappresentati dalla prevenzione delle complicanze e dal mantenimento di un’adeguata qualità di vita.\nScopo della giornata formativa è un confronto tra esperti sui benefici cardiovascolari delle gliflozine\ne sulle modalità di comunicazione tra medico e paziente con diabete mellito di tipo 2.\nL’incontro sarà arricchito da un focus sui recenti dati della letteratura sugli outcomes renali del Canagliflozin e sulla gestione in sicurezza del paziente diabetico anziano. \nPROGRAMMA
URL:https://meeting-planner.it/evento/diabaino/
LOCATION:Grand Hotel Parco dei Pini\, Viale E. Mancuso\, 56\, Taverna (CZ)\, 88055\, Italia
ATTACH;FMTTYPE=image/jpeg:https://meeting-planner.it/wp-content/uploads/2019/07/IMMAGINE-PER-SITO.jpg
ORGANIZER;CN="Paola Morciano":MAILTO:paola@meeting-planner.it
END:VEVENT
BEGIN:VEVENT
DTSTART;TZID=Europe/Helsinki:20190711T090000
DTEND;TZID=Europe/Helsinki:20190711T130000
DTSTAMP:20260421T064624
CREATED:20190709T154418Z
LAST-MODIFIED:20190712T091745Z
UID:1743-1562835600-1562850000@meeting-planner.it
SUMMARY:WORKSHOP BLUTOURSYSTEM
DESCRIPTION:ll workshop intende affrontare\, in una logica partecipata e attraverso un confronto tra i diversi stakeholders e aziende del territorio\, il tema di come coniugare lo sviluppo del turismo in chiave di destination management e competitività del sistema delle imprese delle aree costiere con la necessità di preservare le zone costiere e gli habitat marini. \nScarica il Programma \nIscriviti online
URL:https://meeting-planner.it/evento/workshop-blutoursystem/
LOCATION:GRAND HOTEL MASSERIA SANTA LUCIA\, km 23.500\, Strada Statale 379 di Egnazia e delle Terme di Torre Canne\, OSTUNI\, 72017\, Italia
ATTACH;FMTTYPE=image/jpeg:https://meeting-planner.it/wp-content/uploads/2019/07/fondosalablu-3.jpg
ORGANIZER;CN="Claudia Colagrande":MAILTO:claudia@meeting-planner.it
END:VEVENT
BEGIN:VEVENT
DTSTART;VALUE=DATE:20190629
DTEND;VALUE=DATE:20190630
DTSTAMP:20260421T064624
CREATED:20190619T100226Z
LAST-MODIFIED:20190704T103054Z
UID:1193-1561766400-1561852799@meeting-planner.it
SUMMARY:Psoriasi e Territorio
DESCRIPTION:Psoriasi e Territorio: specialista e MMG a Confronto – Trani\, Università LUM Jean Monnet \nECM (ID Evento 263684) Il Provider ha assegnato n.6 crediti formativi. Il corso è rivolto a n.30 Medici specialisti e Farmacisti. \nPROGRAMMA
URL:https://meeting-planner.it/evento/psoriasi-e-territorio/
LOCATION:Università LUM Trani\, Km. 1.500\, SP130\, Trani\, Bat\, 76125\, Italia
ATTACH;FMTTYPE=image/jpeg:https://meeting-planner.it/wp-content/uploads/2019/06/PSORIASI-TRANI-IMMAGINE-PER-SITO.jpg
ORGANIZER;CN="Claudia Colagrnde":MAILTO:angela@meeting-planner.it
END:VEVENT
END:VCALENDAR