BEGIN:VCALENDAR
VERSION:2.0
PRODID:-//Meeting Planner - ECPv6.15.15//NONSGML v1.0//EN
CALSCALE:GREGORIAN
METHOD:PUBLISH
X-WR-CALNAME:Meeting Planner
X-ORIGINAL-URL:https://meeting-planner.it
X-WR-CALDESC:Eventi per Meeting Planner
REFRESH-INTERVAL;VALUE=DURATION:PT1H
X-Robots-Tag:noindex
X-PUBLISHED-TTL:PT1H
BEGIN:VTIMEZONE
TZID:Europe/Helsinki
BEGIN:DAYLIGHT
TZOFFSETFROM:+0200
TZOFFSETTO:+0300
TZNAME:EEST
DTSTART:20180325T010000
END:DAYLIGHT
BEGIN:STANDARD
TZOFFSETFROM:+0300
TZOFFSETTO:+0200
TZNAME:EET
DTSTART:20181028T010000
END:STANDARD
BEGIN:DAYLIGHT
TZOFFSETFROM:+0200
TZOFFSETTO:+0300
TZNAME:EEST
DTSTART:20190331T010000
END:DAYLIGHT
BEGIN:STANDARD
TZOFFSETFROM:+0300
TZOFFSETTO:+0200
TZNAME:EET
DTSTART:20191027T010000
END:STANDARD
BEGIN:DAYLIGHT
TZOFFSETFROM:+0200
TZOFFSETTO:+0300
TZNAME:EEST
DTSTART:20200329T010000
END:DAYLIGHT
BEGIN:STANDARD
TZOFFSETFROM:+0300
TZOFFSETTO:+0200
TZNAME:EET
DTSTART:20201025T010000
END:STANDARD
END:VTIMEZONE
BEGIN:VEVENT
DTSTART;TZID=Europe/Helsinki:20190712T123000
DTEND;TZID=Europe/Helsinki:20190713T123000
DTSTAMP:20260425T235534
CREATED:20190711T145922Z
LAST-MODIFIED:20190711T153341Z
UID:1863-1562934600-1563021000@meeting-planner.it
SUMMARY:διαβαίνω - DIA.BA.IN.O. STEP 2
DESCRIPTION:Le recenti Consensus internazionali (ADA-EASD) sottolineano l’importanza della centralità del paziente nella gestione del diabete mellito di tipo 2; in particolare i goals terapeutici sono rappresentati dalla prevenzione delle complicanze e dal mantenimento di un’adeguata qualità di vita.\nScopo della giornata formativa è un confronto tra esperti sui benefici cardiovascolari delle gliflozine\ne sulle modalità di comunicazione tra medico e paziente con diabete mellito di tipo 2.\nL’incontro sarà arricchito da un focus sui recenti dati della letteratura sugli outcomes renali del Canagliflozin e sulla gestione in sicurezza del paziente diabetico anziano. \nPROGRAMMA
URL:https://meeting-planner.it/evento/diabaino/
LOCATION:Grand Hotel Parco dei Pini\, Viale E. Mancuso\, 56\, Taverna (CZ)\, 88055\, Italia
ATTACH;FMTTYPE=image/jpeg:https://meeting-planner.it/wp-content/uploads/2019/07/IMMAGINE-PER-SITO.jpg
ORGANIZER;CN="Paola Morciano":MAILTO:paola@meeting-planner.it
END:VEVENT
BEGIN:VEVENT
DTSTART;TZID=Europe/Helsinki:20190711T090000
DTEND;TZID=Europe/Helsinki:20190711T130000
DTSTAMP:20260425T235534
CREATED:20190709T154418Z
LAST-MODIFIED:20190712T091745Z
UID:1743-1562835600-1562850000@meeting-planner.it
SUMMARY:WORKSHOP BLUTOURSYSTEM
DESCRIPTION:ll workshop intende affrontare\, in una logica partecipata e attraverso un confronto tra i diversi stakeholders e aziende del territorio\, il tema di come coniugare lo sviluppo del turismo in chiave di destination management e competitività del sistema delle imprese delle aree costiere con la necessità di preservare le zone costiere e gli habitat marini. \nScarica il Programma \nIscriviti online
URL:https://meeting-planner.it/evento/workshop-blutoursystem/
LOCATION:GRAND HOTEL MASSERIA SANTA LUCIA\, km 23.500\, Strada Statale 379 di Egnazia e delle Terme di Torre Canne\, OSTUNI\, 72017\, Italia
ATTACH;FMTTYPE=image/jpeg:https://meeting-planner.it/wp-content/uploads/2019/07/fondosalablu-3.jpg
ORGANIZER;CN="Claudia Colagrande":MAILTO:claudia@meeting-planner.it
END:VEVENT
BEGIN:VEVENT
DTSTART;VALUE=DATE:20190629
DTEND;VALUE=DATE:20190630
DTSTAMP:20260425T235534
CREATED:20190619T100226Z
LAST-MODIFIED:20190704T103054Z
UID:1193-1561766400-1561852799@meeting-planner.it
SUMMARY:Psoriasi e Territorio
DESCRIPTION:Psoriasi e Territorio: specialista e MMG a Confronto – Trani\, Università LUM Jean Monnet \nECM (ID Evento 263684) Il Provider ha assegnato n.6 crediti formativi. Il corso è rivolto a n.30 Medici specialisti e Farmacisti. \nPROGRAMMA
URL:https://meeting-planner.it/evento/psoriasi-e-territorio/
LOCATION:Università LUM Trani\, Km. 1.500\, SP130\, Trani\, Bat\, 76125\, Italia
ATTACH;FMTTYPE=image/jpeg:https://meeting-planner.it/wp-content/uploads/2019/06/PSORIASI-TRANI-IMMAGINE-PER-SITO.jpg
ORGANIZER;CN="Claudia Colagrnde":MAILTO:angela@meeting-planner.it
END:VEVENT
END:VCALENDAR